BEGIN:VCALENDAR
VERSION:2.0
PRODID:-//jEvents 2.0 for Joomla//EN
CALSCALE:GREGORIAN
METHOD:PUBLISH
BEGIN:VTIMEZONE
TZID:Europe/Berlin
BEGIN:STANDARD
DTSTART:20160117T181500
RDATE:20160327T030000
TZOFFSETFROM:+0200
TZOFFSETTO:+0100
TZNAME:Europe/Berlin CET
END:STANDARD
BEGIN:STANDARD
DTSTART:20161030T020000
RDATE:20170326T030000
TZOFFSETFROM:+0200
TZOFFSETTO:+0100
TZNAME:Europe/Berlin CET
END:STANDARD
BEGIN:STANDARD
DTSTART:20171029T020000
RDATE:20180325T030000
TZOFFSETFROM:+0200
TZOFFSETTO:+0100
TZNAME:Europe/Berlin CET
END:STANDARD
BEGIN:STANDARD
DTSTART:20181028T020000
RDATE:20190331T030000
TZOFFSETFROM:+0200
TZOFFSETTO:+0100
TZNAME:Europe/Berlin CET
END:STANDARD
BEGIN:STANDARD
DTSTART:20191027T020000
RDATE:20200329T030000
TZOFFSETFROM:+0200
TZOFFSETTO:+0100
TZNAME:Europe/Berlin CET
END:STANDARD
BEGIN:STANDARD
DTSTART:20201025T020000
RDATE:20210328T030000
TZOFFSETFROM:+0200
TZOFFSETTO:+0100
TZNAME:Europe/Berlin CET
END:STANDARD
BEGIN:STANDARD
DTSTART:20211031T020000
RDATE:20220327T030000
TZOFFSETFROM:+0200
TZOFFSETTO:+0100
TZNAME:Europe/Berlin CET
END:STANDARD
BEGIN:STANDARD
DTSTART:20221030T020000
RDATE:20230326T030000
TZOFFSETFROM:+0200
TZOFFSETTO:+0100
TZNAME:Europe/Berlin CET
END:STANDARD
BEGIN:STANDARD
DTSTART:20231029T020000
RDATE:20240331T030000
TZOFFSETFROM:+0200
TZOFFSETTO:+0100
TZNAME:Europe/Berlin CET
END:STANDARD
BEGIN:STANDARD
DTSTART:20241027T020000
RDATE:20250330T030000
TZOFFSETFROM:+0200
TZOFFSETTO:+0100
TZNAME:Europe/Berlin CET
END:STANDARD
BEGIN:STANDARD
DTSTART:20251026T020000
RDATE:20260329T030000
TZOFFSETFROM:+0200
TZOFFSETTO:+0100
TZNAME:Europe/Berlin CET
END:STANDARD
BEGIN:STANDARD
DTSTART:20261025T020000
RDATE:20270328T030000
TZOFFSETFROM:+0200
TZOFFSETTO:+0100
TZNAME:Europe/Berlin CET
END:STANDARD
BEGIN:STANDARD
DTSTART:20271031T020000
RDATE:20280326T030000
TZOFFSETFROM:+0200
TZOFFSETTO:+0100
TZNAME:Europe/Berlin CET
END:STANDARD
BEGIN:DAYLIGHT
DTSTART:20160327T030000
RDATE:20161030T020000
TZOFFSETFROM:+0100
TZOFFSETTO:+0200
TZNAME:Europe/Berlin CEST
END:DAYLIGHT
BEGIN:DAYLIGHT
DTSTART:20170326T030000
RDATE:20171029T020000
TZOFFSETFROM:+0100
TZOFFSETTO:+0200
TZNAME:Europe/Berlin CEST
END:DAYLIGHT
BEGIN:DAYLIGHT
DTSTART:20180325T030000
RDATE:20181028T020000
TZOFFSETFROM:+0100
TZOFFSETTO:+0200
TZNAME:Europe/Berlin CEST
END:DAYLIGHT
BEGIN:DAYLIGHT
DTSTART:20190331T030000
RDATE:20191027T020000
TZOFFSETFROM:+0100
TZOFFSETTO:+0200
TZNAME:Europe/Berlin CEST
END:DAYLIGHT
BEGIN:DAYLIGHT
DTSTART:20200329T030000
RDATE:20201025T020000
TZOFFSETFROM:+0100
TZOFFSETTO:+0200
TZNAME:Europe/Berlin CEST
END:DAYLIGHT
BEGIN:DAYLIGHT
DTSTART:20210328T030000
RDATE:20211031T020000
TZOFFSETFROM:+0100
TZOFFSETTO:+0200
TZNAME:Europe/Berlin CEST
END:DAYLIGHT
BEGIN:DAYLIGHT
DTSTART:20220327T030000
RDATE:20221030T020000
TZOFFSETFROM:+0100
TZOFFSETTO:+0200
TZNAME:Europe/Berlin CEST
END:DAYLIGHT
BEGIN:DAYLIGHT
DTSTART:20230326T030000
RDATE:20231029T020000
TZOFFSETFROM:+0100
TZOFFSETTO:+0200
TZNAME:Europe/Berlin CEST
END:DAYLIGHT
BEGIN:DAYLIGHT
DTSTART:20240331T030000
RDATE:20241027T020000
TZOFFSETFROM:+0100
TZOFFSETTO:+0200
TZNAME:Europe/Berlin CEST
END:DAYLIGHT
BEGIN:DAYLIGHT
DTSTART:20250330T030000
RDATE:20251026T020000
TZOFFSETFROM:+0100
TZOFFSETTO:+0200
TZNAME:Europe/Berlin CEST
END:DAYLIGHT
BEGIN:DAYLIGHT
DTSTART:20260329T030000
RDATE:20261025T020000
TZOFFSETFROM:+0100
TZOFFSETTO:+0200
TZNAME:Europe/Berlin CEST
END:DAYLIGHT
BEGIN:DAYLIGHT
DTSTART:20270328T030000
RDATE:20271031T020000
TZOFFSETFROM:+0100
TZOFFSETTO:+0200
TZNAME:Europe/Berlin CEST
END:DAYLIGHT
END:VTIMEZONE
BEGIN:VEVENT
UID:64b2dd8a1b4d2f5589c70527c69e5e03
CATEGORIES:ESG
CREATED:20160928T143644
SUMMARY:AWWT
URL;VALUE=URI:https://esg-trier.de/veranstaltungskalender/eventeinzelheiten/3685/-/awwt?t
 mpl=component
DESCRIPTION:Spätburgunder\nDer Kracher unseres Semesterprogrames: die Blitzprobe am frü
 hen Abend! Raus aus der Arbeit, rein in den Feierabend. \nKeine Stunde, ein
 e Rebsorte, zwei Weine. Im Mittelpunkt stehen typische Vertreter einer Rebs
 orte, die jedoch aus verschiedenen  Anbaugebieten stammen. Und deshalb so v
 öllig unterschiedlich schmecken.\n\nUnd das wir bei den Weinen nicht nur au
 f die Qualität, sondern auch auf extrem studi-freundliche Preise achten, ha
 st sich mittlerweile herumgesprochen.\nZu diesem Format ist keine (!) Anmel
 dung erforderlich; allerdings wird ein Kostenbeitrag von 2,50- Euro erbeten
 .\n This event was imported from: https://esg-trier.de/veranstaltungskalend
 er/eventeinzelheiten/3685/-/awwt?tmpl=component (https://esg-trier.de/veran
 staltungskalender/eventeinzelheiten/3685/-/awwt?tmpl=component)
X-ALT-DESC;FMTTYPE=text/html:<p>Spätburgunder</p><p>Der Kracher unseres Semesterprogrames: die Blitzprob
 e am frühen Abend! Raus aus der Arbeit, rein in den Feierabend. <br />Keine
  Stunde, eine Rebsorte, zwei Weine. Im Mittelpunkt stehen typische Vertrete
 r einer Rebsorte, die jedoch aus verschiedenen  Anbaugebieten stammen. Und 
 deshalb so völlig unterschiedlich schmecken.<br /><br />Und das wir bei den
  Weinen nicht nur auf die Qualität, sondern auch auf extrem studi-freundlic
 he Preise achten, hast sich mittlerweile herumgesprochen.</p><p>Zu diesem F
 ormat ist keine (!) Anmeldung erforderlich; allerdings wird ein Kostenbeitr
 ag von 2,50- Euro erbeten.</p> <a href="https://esg-trier.de/veranstaltungs
 kalender/eventeinzelheiten/3685/-/awwt?tmpl=component">This event was impor
 ted from: https://esg-trier.de/veranstaltungskalender/eventeinzelheiten/368
 5/-/awwt?tmpl=component</a>DTSTAMP:20260426T011509
DTSTART;TZID=Europe/Berlin:20170117T181500
DTEND;TZID=Europe/Berlin:20170117T190000
SEQUENCE:0
TRANSP:OPAQUE
END:VEVENT
END:VCALENDAR