BEGIN:VCALENDAR
VERSION:2.0
PRODID:-//jEvents 2.0 for Joomla//EN
CALSCALE:GREGORIAN
METHOD:PUBLISH
BEGIN:VTIMEZONE
TZID:Europe/Berlin
BEGIN:STANDARD
DTSTART:20151028T091500
RDATE:20160327T030000
TZOFFSETFROM:+0200
TZOFFSETTO:+0100
TZNAME:Europe/Berlin CET
END:STANDARD
BEGIN:STANDARD
DTSTART:20161030T020000
RDATE:20170326T030000
TZOFFSETFROM:+0200
TZOFFSETTO:+0100
TZNAME:Europe/Berlin CET
END:STANDARD
BEGIN:STANDARD
DTSTART:20171029T020000
RDATE:20180325T030000
TZOFFSETFROM:+0200
TZOFFSETTO:+0100
TZNAME:Europe/Berlin CET
END:STANDARD
BEGIN:STANDARD
DTSTART:20181028T020000
RDATE:20190331T030000
TZOFFSETFROM:+0200
TZOFFSETTO:+0100
TZNAME:Europe/Berlin CET
END:STANDARD
BEGIN:STANDARD
DTSTART:20191027T020000
RDATE:20200329T030000
TZOFFSETFROM:+0200
TZOFFSETTO:+0100
TZNAME:Europe/Berlin CET
END:STANDARD
BEGIN:STANDARD
DTSTART:20201025T020000
RDATE:20210328T030000
TZOFFSETFROM:+0200
TZOFFSETTO:+0100
TZNAME:Europe/Berlin CET
END:STANDARD
BEGIN:STANDARD
DTSTART:20211031T020000
RDATE:20220327T030000
TZOFFSETFROM:+0200
TZOFFSETTO:+0100
TZNAME:Europe/Berlin CET
END:STANDARD
BEGIN:STANDARD
DTSTART:20221030T020000
RDATE:20230326T030000
TZOFFSETFROM:+0200
TZOFFSETTO:+0100
TZNAME:Europe/Berlin CET
END:STANDARD
BEGIN:STANDARD
DTSTART:20231029T020000
RDATE:20240331T030000
TZOFFSETFROM:+0200
TZOFFSETTO:+0100
TZNAME:Europe/Berlin CET
END:STANDARD
BEGIN:STANDARD
DTSTART:20241027T020000
RDATE:20250330T030000
TZOFFSETFROM:+0200
TZOFFSETTO:+0100
TZNAME:Europe/Berlin CET
END:STANDARD
BEGIN:STANDARD
DTSTART:20251026T020000
RDATE:20260329T030000
TZOFFSETFROM:+0200
TZOFFSETTO:+0100
TZNAME:Europe/Berlin CET
END:STANDARD
BEGIN:STANDARD
DTSTART:20261025T020000
RDATE:20270328T030000
TZOFFSETFROM:+0200
TZOFFSETTO:+0100
TZNAME:Europe/Berlin CET
END:STANDARD
BEGIN:STANDARD
DTSTART:20271031T020000
RDATE:20280326T030000
TZOFFSETFROM:+0200
TZOFFSETTO:+0100
TZNAME:Europe/Berlin CET
END:STANDARD
BEGIN:DAYLIGHT
DTSTART:20160327T030000
RDATE:20161030T020000
TZOFFSETFROM:+0100
TZOFFSETTO:+0200
TZNAME:Europe/Berlin CEST
END:DAYLIGHT
BEGIN:DAYLIGHT
DTSTART:20170326T030000
RDATE:20171029T020000
TZOFFSETFROM:+0100
TZOFFSETTO:+0200
TZNAME:Europe/Berlin CEST
END:DAYLIGHT
BEGIN:DAYLIGHT
DTSTART:20180325T030000
RDATE:20181028T020000
TZOFFSETFROM:+0100
TZOFFSETTO:+0200
TZNAME:Europe/Berlin CEST
END:DAYLIGHT
BEGIN:DAYLIGHT
DTSTART:20190331T030000
RDATE:20191027T020000
TZOFFSETFROM:+0100
TZOFFSETTO:+0200
TZNAME:Europe/Berlin CEST
END:DAYLIGHT
BEGIN:DAYLIGHT
DTSTART:20200329T030000
RDATE:20201025T020000
TZOFFSETFROM:+0100
TZOFFSETTO:+0200
TZNAME:Europe/Berlin CEST
END:DAYLIGHT
BEGIN:DAYLIGHT
DTSTART:20210328T030000
RDATE:20211031T020000
TZOFFSETFROM:+0100
TZOFFSETTO:+0200
TZNAME:Europe/Berlin CEST
END:DAYLIGHT
BEGIN:DAYLIGHT
DTSTART:20220327T030000
RDATE:20221030T020000
TZOFFSETFROM:+0100
TZOFFSETTO:+0200
TZNAME:Europe/Berlin CEST
END:DAYLIGHT
BEGIN:DAYLIGHT
DTSTART:20230326T030000
RDATE:20231029T020000
TZOFFSETFROM:+0100
TZOFFSETTO:+0200
TZNAME:Europe/Berlin CEST
END:DAYLIGHT
BEGIN:DAYLIGHT
DTSTART:20240331T030000
RDATE:20241027T020000
TZOFFSETFROM:+0100
TZOFFSETTO:+0200
TZNAME:Europe/Berlin CEST
END:DAYLIGHT
BEGIN:DAYLIGHT
DTSTART:20250330T030000
RDATE:20251026T020000
TZOFFSETFROM:+0100
TZOFFSETTO:+0200
TZNAME:Europe/Berlin CEST
END:DAYLIGHT
BEGIN:DAYLIGHT
DTSTART:20260329T030000
RDATE:20261025T020000
TZOFFSETFROM:+0100
TZOFFSETTO:+0200
TZNAME:Europe/Berlin CEST
END:DAYLIGHT
BEGIN:DAYLIGHT
DTSTART:20270328T030000
RDATE:20271031T020000
TZOFFSETFROM:+0100
TZOFFSETTO:+0200
TZNAME:Europe/Berlin CEST
END:DAYLIGHT
END:VTIMEZONE
BEGIN:VEVENT
UID:beeedf8283f3c2cba6bb8131df3fa1d6
CATEGORIES:Gruppen
CREATED:19700101T010000
SUMMARY:Sterben und Tod in der frühen Neuzeit
LOCATION:Raum A 12
URL;VALUE=URI:https://esg-trier.de/veranstaltungskalender/eventeinzelheiten/3699/-/sterbe
 n-und-tod-in-der-frühen-neuzeit?tmpl=component
DESCRIPTION:Kriege, Pest und Katastrophen haben unter der europäischen Bevö-lkerung sch
 were Verluste verursacht. Die bestürzende Konfrontation mit dem Tod und sei
 ne ständige Bedrohung stellten in der Frühen Neuzeit Politik, Theologie und
  Kirche vor großen Herausforderungen. Ziel die-ses Seminars ist es, nicht n
 ur die unmittelbaren kirchengeschichtlichen, gesellschaftlichen und politis
 chen Wirkungen dieser Konfrontation zu erkennen, sondern auch längerfristig
 e Konsequenzen dieser Konfrontation des Glaubens mit dem großen Sterben auf
 zuzeigen. Religiöse und politische Handlungsanweisungen, Deutungsmuster in 
 der Kunst sowie Bewältigungsmodelle der Volksfrömmigkeit sollen ebenso unte
 rsucht werden wie die zum Teil stark differierenden gesellschaftspolitische
 n, medizinischen und theologischen Antwortversuche.\nEine Liste der zum Tei
 l faszinierenden Literatur sowie wichtigster Quellen wird zu Beginn des Sem
 inars zur Verfügung gestellt. Besondere Vorkenntnisse sowie griech./lat. Sp
 rachkenntnisse werden nicht erwartet. Bedingung zur Teilnahme ist jedoch di
 e Bereitschaft zur aktiven Mitarbeit.\n This event was imported from: https
 ://esg-trier.de/veranstaltungskalender/eventeinzelheiten/3699/-/sterben-und
 -tod-in-der-frühen-neuzeit?tmpl=component (https://esg-trier.de/veranstaltu
 ngskalender/eventeinzelheiten/3699/-/sterben-und-tod-in-der-frühen-neuzeit?
 tmpl=component)
X-ALT-DESC;FMTTYPE=text/html:<p>Kriege, Pest und Katastrophen haben unter der europäischen Bevö-lkerung 
 schwere Verluste verursacht. Die bestürzende Konfrontation mit dem Tod und 
 seine ständige Bedrohung stellten in der Frühen Neuzeit Politik, Theologie 
 und Kirche vor großen Herausforderungen. Ziel die-ses Seminars ist es, nich
 t nur die unmittelbaren kirchengeschichtlichen, gesellschaftlichen und poli
 tischen Wirkungen dieser Konfrontation zu erkennen, sondern auch längerfris
 tige Konsequenzen dieser Konfrontation des Glaubens mit dem großen Sterben 
 aufzuzeigen. Religiöse und politische Handlungsanweisungen, Deutungsmuster 
 in der Kunst sowie Bewältigungsmodelle der Volksfrömmigkeit sollen ebenso u
 ntersucht werden wie die zum Teil stark differierenden gesellschaftspolitis
 chen, medizinischen und theologischen Antwortversuche.</p><p>Eine Liste der
  zum Teil faszinierenden Literatur sowie wichtigster Quellen wird zu Beginn
  des Seminars zur Verfügung gestellt. Besondere Vorkenntnisse sowie griech.
 /lat. Sprachkenntnisse werden nicht erwartet. Bedingung zur Teilnahme ist j
 edoch die Bereitschaft zur aktiven Mitarbeit.</p> <a href="https://esg-trie
 r.de/veranstaltungskalender/eventeinzelheiten/3699/-/sterben-und-tod-in-der
 -frühen-neuzeit?tmpl=component">This event was imported from: https://esg-t
 rier.de/veranstaltungskalender/eventeinzelheiten/3699/-/sterben-und-tod-in-
 der-frühen-neuzeit?tmpl=component</a>DTSTAMP:20260425T172323
DTSTART;TZID=Europe/Berlin:20161028T101500
SEQUENCE:0
RRULE:FREQ=WEEKLY;UNTIL=20170219T000000Z;INTERVAL=1;BYDAY=FR
EXDATE;TZID=Europe/Berlin:20161230T101500,20170106T101500
TRANSP:OPAQUE
END:VEVENT
END:VCALENDAR