BEGIN:VCALENDAR
VERSION:2.0
PRODID:-//jEvents 2.0 for Joomla//EN
CALSCALE:GREGORIAN
METHOD:PUBLISH
BEGIN:VTIMEZONE
TZID:Europe/Berlin
BEGIN:STANDARD
DTSTART:20151025T111500
RDATE:20160327T030000
TZOFFSETFROM:+0200
TZOFFSETTO:+0100
TZNAME:Europe/Berlin CET
END:STANDARD
BEGIN:STANDARD
DTSTART:20161030T020000
RDATE:20170326T030000
TZOFFSETFROM:+0200
TZOFFSETTO:+0100
TZNAME:Europe/Berlin CET
END:STANDARD
BEGIN:STANDARD
DTSTART:20171029T020000
RDATE:20180325T030000
TZOFFSETFROM:+0200
TZOFFSETTO:+0100
TZNAME:Europe/Berlin CET
END:STANDARD
BEGIN:STANDARD
DTSTART:20181028T020000
RDATE:20190331T030000
TZOFFSETFROM:+0200
TZOFFSETTO:+0100
TZNAME:Europe/Berlin CET
END:STANDARD
BEGIN:STANDARD
DTSTART:20191027T020000
RDATE:20200329T030000
TZOFFSETFROM:+0200
TZOFFSETTO:+0100
TZNAME:Europe/Berlin CET
END:STANDARD
BEGIN:STANDARD
DTSTART:20201025T020000
RDATE:20210328T030000
TZOFFSETFROM:+0200
TZOFFSETTO:+0100
TZNAME:Europe/Berlin CET
END:STANDARD
BEGIN:STANDARD
DTSTART:20211031T020000
RDATE:20220327T030000
TZOFFSETFROM:+0200
TZOFFSETTO:+0100
TZNAME:Europe/Berlin CET
END:STANDARD
BEGIN:STANDARD
DTSTART:20221030T020000
RDATE:20230326T030000
TZOFFSETFROM:+0200
TZOFFSETTO:+0100
TZNAME:Europe/Berlin CET
END:STANDARD
BEGIN:STANDARD
DTSTART:20231029T020000
RDATE:20240331T030000
TZOFFSETFROM:+0200
TZOFFSETTO:+0100
TZNAME:Europe/Berlin CET
END:STANDARD
BEGIN:STANDARD
DTSTART:20241027T020000
RDATE:20250330T030000
TZOFFSETFROM:+0200
TZOFFSETTO:+0100
TZNAME:Europe/Berlin CET
END:STANDARD
BEGIN:STANDARD
DTSTART:20251026T020000
RDATE:20260329T030000
TZOFFSETFROM:+0200
TZOFFSETTO:+0100
TZNAME:Europe/Berlin CET
END:STANDARD
BEGIN:STANDARD
DTSTART:20261025T020000
RDATE:20270328T030000
TZOFFSETFROM:+0200
TZOFFSETTO:+0100
TZNAME:Europe/Berlin CET
END:STANDARD
BEGIN:STANDARD
DTSTART:20271031T020000
RDATE:20280326T030000
TZOFFSETFROM:+0200
TZOFFSETTO:+0100
TZNAME:Europe/Berlin CET
END:STANDARD
BEGIN:DAYLIGHT
DTSTART:20160327T030000
RDATE:20161030T020000
TZOFFSETFROM:+0100
TZOFFSETTO:+0200
TZNAME:Europe/Berlin CEST
END:DAYLIGHT
BEGIN:DAYLIGHT
DTSTART:20170326T030000
RDATE:20171029T020000
TZOFFSETFROM:+0100
TZOFFSETTO:+0200
TZNAME:Europe/Berlin CEST
END:DAYLIGHT
BEGIN:DAYLIGHT
DTSTART:20180325T030000
RDATE:20181028T020000
TZOFFSETFROM:+0100
TZOFFSETTO:+0200
TZNAME:Europe/Berlin CEST
END:DAYLIGHT
BEGIN:DAYLIGHT
DTSTART:20190331T030000
RDATE:20191027T020000
TZOFFSETFROM:+0100
TZOFFSETTO:+0200
TZNAME:Europe/Berlin CEST
END:DAYLIGHT
BEGIN:DAYLIGHT
DTSTART:20200329T030000
RDATE:20201025T020000
TZOFFSETFROM:+0100
TZOFFSETTO:+0200
TZNAME:Europe/Berlin CEST
END:DAYLIGHT
BEGIN:DAYLIGHT
DTSTART:20210328T030000
RDATE:20211031T020000
TZOFFSETFROM:+0100
TZOFFSETTO:+0200
TZNAME:Europe/Berlin CEST
END:DAYLIGHT
BEGIN:DAYLIGHT
DTSTART:20220327T030000
RDATE:20221030T020000
TZOFFSETFROM:+0100
TZOFFSETTO:+0200
TZNAME:Europe/Berlin CEST
END:DAYLIGHT
BEGIN:DAYLIGHT
DTSTART:20230326T030000
RDATE:20231029T020000
TZOFFSETFROM:+0100
TZOFFSETTO:+0200
TZNAME:Europe/Berlin CEST
END:DAYLIGHT
BEGIN:DAYLIGHT
DTSTART:20240331T030000
RDATE:20241027T020000
TZOFFSETFROM:+0100
TZOFFSETTO:+0200
TZNAME:Europe/Berlin CEST
END:DAYLIGHT
BEGIN:DAYLIGHT
DTSTART:20250330T030000
RDATE:20251026T020000
TZOFFSETFROM:+0100
TZOFFSETTO:+0200
TZNAME:Europe/Berlin CEST
END:DAYLIGHT
BEGIN:DAYLIGHT
DTSTART:20260329T030000
RDATE:20261025T020000
TZOFFSETFROM:+0100
TZOFFSETTO:+0200
TZNAME:Europe/Berlin CEST
END:DAYLIGHT
BEGIN:DAYLIGHT
DTSTART:20270328T030000
RDATE:20271031T020000
TZOFFSETFROM:+0100
TZOFFSETTO:+0200
TZNAME:Europe/Berlin CEST
END:DAYLIGHT
END:VTIMEZONE
BEGIN:VEVENT
UID:533cae4b4d3c19af46ac14661b473c3a
CATEGORIES:ESG
CREATED:19700101T010000
SUMMARY:ESG-Laufgruppe
URL;VALUE=URI:https://esg-trier.de/veranstaltungskalender/eventeinzelheiten/3718/-/esg-la
 ufgruppe?tmpl=component
DESCRIPTION:2 Uhr Mittags - Die andere Mittagspause\nAuch wenn es nicht immer so aussie
 ht – Laufen macht richtig Freude! Gerade zu Beginn einer strahlenden Laufka
 rriere sind die Ergebnisse fulminant. Und da direkt zu Beginn beim Laufen a
 uf einige Dinge zu achten, macht die Sache gleich viel einfacher. \n  \n De
 r Lauftreff richtet sich an Anfängerinnen und Anfänger, Fortgeschrittene si
 nd aber ebenfalls herzlich willkommen (diese können dann nach einiger Zeit 
 gerne davonziehen).  \n Technisch geht es darum, einen unnötigen Kraftaufwa
 nd zu vermeiden und möglichst fließend voranzukommen.  \n Tempo egal. Haupt
 sache, es sieht gut aus. Der Rest findet sich. Für Anfängerinnen und Anfäng
 er also ideal. Und schauen ganz locker zu, ob es uns dann gelingen wird, au
 ch in diesem Jahr erfolgreich beim Trierer Stadtlauf am 26. Juni zu starten
 .\n    \n Also: Treffpunkt - jeden Dienstag ab 12.15 Uhr in (!) der ESG. \n
  Wer da ist, ist da.   \n This event was imported from: https://esg-trier.d
 e/veranstaltungskalender/eventeinzelheiten/3718/-/esg-laufgruppe?tmpl=compo
 nent
X-ALT-DESC;FMTTYPE=text/html:<p>2 Uhr Mittags - Die andere Mittagspause</p><p>Auch wenn es nicht immer s
 o aussieht &ndash; Laufen macht richtig Freude! Gerade zu Beginn einer stra
 hlenden Laufkarriere sind die Ergebnisse fulminant. Und da direkt zu Beginn
  beim Laufen auf einige Dinge zu achten, macht die Sache gleich viel einfac
 her. <br />  <br /> Der Lauftreff richtet sich an Anfängerinnen und Anfänge
 r, Fortgeschrittene sind aber ebenfalls herzlich willkommen (diese können d
 ann nach einiger Zeit gerne davonziehen).  <br /> Technisch geht es darum, 
 einen unnötigen Kraftaufwand zu vermeiden und möglichst fließend voranzukom
 men.  <br /> Tempo egal. Hauptsache, es sieht gut aus. Der Rest findet sich
 . Für Anfängerinnen und Anfänger also ideal. Und schauen ganz locker zu, ob
  es uns dann gelingen wird, auch in diesem Jahr erfolgreich beim Trierer St
 adtlauf am 26. Juni zu starten.<br />    <br /> Also: Treffpunkt - jeden Di
 enstag ab 12.15 Uhr in (!) der ESG. <br /> Wer da ist, ist da.   </p> <a hr
 ef="https://esg-trier.de/veranstaltungskalender/eventeinzelheiten/3718/-/es
 g-laufgruppe?tmpl=component">This event was imported from: https://esg-trie
 r.de/veranstaltungskalender/eventeinzelheiten/3718/-/esg-laufgruppe?tmpl=co
 mponent</a>DTSTAMP:20260425T203041
DTSTART;TZID=Europe/Berlin:20161025T121500
DTEND;TZID=Europe/Berlin:20161025T131500
SEQUENCE:0
RRULE:FREQ=WEEKLY;UNTIL=20170219T000000Z;INTERVAL=1;BYDAY=TU
EXDATE;TZID=Europe/Berlin:20161227T121500,20170103T121500
TRANSP:OPAQUE
END:VEVENT
END:VCALENDAR