BEGIN:VCALENDAR
VERSION:2.0
PRODID:-//jEvents 2.0 for Joomla//EN
CALSCALE:GREGORIAN
METHOD:PUBLISH
BEGIN:VTIMEZONE
TZID:Europe/Berlin
BEGIN:STANDARD
DTSTART:20161030T020000
RDATE:20170326T030000
TZOFFSETFROM:+0200
TZOFFSETTO:+0100
TZNAME:Europe/Berlin CET
END:STANDARD
BEGIN:STANDARD
DTSTART:20171029T020000
RDATE:20180325T030000
TZOFFSETFROM:+0200
TZOFFSETTO:+0100
TZNAME:Europe/Berlin CET
END:STANDARD
BEGIN:STANDARD
DTSTART:20181028T020000
RDATE:20190331T030000
TZOFFSETFROM:+0200
TZOFFSETTO:+0100
TZNAME:Europe/Berlin CET
END:STANDARD
BEGIN:STANDARD
DTSTART:20191027T020000
RDATE:20200329T030000
TZOFFSETFROM:+0200
TZOFFSETTO:+0100
TZNAME:Europe/Berlin CET
END:STANDARD
BEGIN:STANDARD
DTSTART:20201025T020000
RDATE:20210328T030000
TZOFFSETFROM:+0200
TZOFFSETTO:+0100
TZNAME:Europe/Berlin CET
END:STANDARD
BEGIN:STANDARD
DTSTART:20211031T020000
RDATE:20220327T030000
TZOFFSETFROM:+0200
TZOFFSETTO:+0100
TZNAME:Europe/Berlin CET
END:STANDARD
BEGIN:STANDARD
DTSTART:20221030T020000
RDATE:20230326T030000
TZOFFSETFROM:+0200
TZOFFSETTO:+0100
TZNAME:Europe/Berlin CET
END:STANDARD
BEGIN:STANDARD
DTSTART:20231029T020000
RDATE:20240331T030000
TZOFFSETFROM:+0200
TZOFFSETTO:+0100
TZNAME:Europe/Berlin CET
END:STANDARD
BEGIN:STANDARD
DTSTART:20241027T020000
RDATE:20250330T030000
TZOFFSETFROM:+0200
TZOFFSETTO:+0100
TZNAME:Europe/Berlin CET
END:STANDARD
BEGIN:STANDARD
DTSTART:20251026T020000
RDATE:20260329T030000
TZOFFSETFROM:+0200
TZOFFSETTO:+0100
TZNAME:Europe/Berlin CET
END:STANDARD
BEGIN:STANDARD
DTSTART:20261025T020000
RDATE:20270328T030000
TZOFFSETFROM:+0200
TZOFFSETTO:+0100
TZNAME:Europe/Berlin CET
END:STANDARD
BEGIN:STANDARD
DTSTART:20271031T020000
RDATE:20280326T030000
TZOFFSETFROM:+0200
TZOFFSETTO:+0100
TZNAME:Europe/Berlin CET
END:STANDARD
BEGIN:DAYLIGHT
DTSTART:20161018T080000
RDATE:20161030T020000
TZOFFSETFROM:+0100
TZOFFSETTO:+0200
TZNAME:Europe/Berlin CEST
END:DAYLIGHT
BEGIN:DAYLIGHT
DTSTART:20170326T030000
RDATE:20171029T020000
TZOFFSETFROM:+0100
TZOFFSETTO:+0200
TZNAME:Europe/Berlin CEST
END:DAYLIGHT
BEGIN:DAYLIGHT
DTSTART:20180325T030000
RDATE:20181028T020000
TZOFFSETFROM:+0100
TZOFFSETTO:+0200
TZNAME:Europe/Berlin CEST
END:DAYLIGHT
BEGIN:DAYLIGHT
DTSTART:20190331T030000
RDATE:20191027T020000
TZOFFSETFROM:+0100
TZOFFSETTO:+0200
TZNAME:Europe/Berlin CEST
END:DAYLIGHT
BEGIN:DAYLIGHT
DTSTART:20200329T030000
RDATE:20201025T020000
TZOFFSETFROM:+0100
TZOFFSETTO:+0200
TZNAME:Europe/Berlin CEST
END:DAYLIGHT
BEGIN:DAYLIGHT
DTSTART:20210328T030000
RDATE:20211031T020000
TZOFFSETFROM:+0100
TZOFFSETTO:+0200
TZNAME:Europe/Berlin CEST
END:DAYLIGHT
BEGIN:DAYLIGHT
DTSTART:20220327T030000
RDATE:20221030T020000
TZOFFSETFROM:+0100
TZOFFSETTO:+0200
TZNAME:Europe/Berlin CEST
END:DAYLIGHT
BEGIN:DAYLIGHT
DTSTART:20230326T030000
RDATE:20231029T020000
TZOFFSETFROM:+0100
TZOFFSETTO:+0200
TZNAME:Europe/Berlin CEST
END:DAYLIGHT
BEGIN:DAYLIGHT
DTSTART:20240331T030000
RDATE:20241027T020000
TZOFFSETFROM:+0100
TZOFFSETTO:+0200
TZNAME:Europe/Berlin CEST
END:DAYLIGHT
BEGIN:DAYLIGHT
DTSTART:20250330T030000
RDATE:20251026T020000
TZOFFSETFROM:+0100
TZOFFSETTO:+0200
TZNAME:Europe/Berlin CEST
END:DAYLIGHT
BEGIN:DAYLIGHT
DTSTART:20260329T030000
RDATE:20261025T020000
TZOFFSETFROM:+0100
TZOFFSETTO:+0200
TZNAME:Europe/Berlin CEST
END:DAYLIGHT
BEGIN:DAYLIGHT
DTSTART:20270328T030000
RDATE:20271031T020000
TZOFFSETFROM:+0100
TZOFFSETTO:+0200
TZNAME:Europe/Berlin CEST
END:DAYLIGHT
END:VTIMEZONE
BEGIN:VEVENT
UID:8521dd691f437cf2d308dbb237f4b23f
CATEGORIES:ESG
CREATED:19700101T010000
SUMMARY:Übungsgruppe: "AchtsamkeitsMeditation" in der ESG
LOCATION:ESG Versammlungsraum
URL;VALUE=URI:https://esg-trier.de/veranstaltungskalender/eventeinzelheiten/4211/-/übungs
 gruppe-achtsamkeitsmeditation-in-der-esg?tmpl=component
DESCRIPTION:Donnerstag 19. Oktober startet die psychosoziale Beratung im Studiwerk eine
  neue Übungsgruppe zur "AchtsamkeitsMeditation" in Kooperation mit der ESG.
  Jeden Donnerstag von 8.00 bis 09.00 Uhr trifft sich die Gruppe im Versamml
 ungsraum der ESG. Der Kurs ist offen für Alle, kostenlos und eine Teilnahme
  ist nach Voranmeldung per Mail möglich: Nicole.Arendt@studierendenwerk-tri
 er.de (mailto:Nicole.Arendt@studierendenwerk-trier.de)\nZum Inhalt: 30 Minu
 ten achtsame Körperübungen aus dem Yoga, 20 Minuten Sitzmeditation und 10 M
 inuten Zeit zum Austausch. Sitzkissen sind vorhanden, eine Iso- oder Yogama
 tte muss mitgebracht werden.\n This event was imported from: https://esg-tr
 ier.de/veranstaltungskalender/eventeinzelheiten/4211/-/übungsgruppe-achtsam
 keitsmeditation-in-der-esg?tmpl=component
X-ALT-DESC;FMTTYPE=text/html:<p style="outline: 0px; margin: 0px 0px 15px; padding: 0px; font-family: Sq
 uare721BT-Roman, Arial, Helvetica, sans-serif; font-size: 18px;">Donnerstag
  19. Oktober startet die psychosoziale Beratung im Studiwerk eine neue Übun
 gsgruppe zur "AchtsamkeitsMeditation" in Kooperation mit der ESG. Jeden Don
 nerstag von 8.00 bis 09.00 Uhr trifft sich die Gruppe im Versammlungsraum d
 er ESG. Der Kurs ist offen für Alle, kostenlos und eine Teilnahme ist nach 
 Voranmeldung per Mail möglich:&nbsp;<a href="mailto:Nicole.Arendt@studieren
 denwerk-trier.de" style="outline: 0px; color: #4e891e;">Nicole.Arendt@studi
 erendenwerk-trier.de</a></p><p style="outline: 0px; margin: 0px; padding: 0
 px; font-family: Square721BT-Roman, Arial, Helvetica, sans-serif; font-size
 : 18px;">Zum Inhalt: 30 Minuten achtsame Körperübungen aus dem Yoga, 20 Min
 uten Sitzmeditation und 10 Minuten Zeit zum Austausch. Sitzkissen sind vorh
 anden, eine Iso- oder Yogamatte muss mitgebracht werden.</p> <a href="https
 ://esg-trier.de/veranstaltungskalender/eventeinzelheiten/4211/-/übungsgrupp
 e-achtsamkeitsmeditation-in-der-esg?tmpl=component">This event was imported
  from: https://esg-trier.de/veranstaltungskalender/eventeinzelheiten/4211/-
 /übungsgruppe-achtsamkeitsmeditation-in-der-esg?tmpl=component</a>CONTACT:https://www.studiwerk.de/eo/cms?_sprache=de&amp;_bereich=artikel&amp;_aktion=detail&amp;idartikel=212373
DTSTAMP:20260425T153705
DTSTART;TZID=Europe/Berlin:20171019T080000
DTEND;TZID=Europe/Berlin:20171019T090000
SEQUENCE:0
RRULE:FREQ=WEEKLY;UNTIL=20180210T000000Z;INTERVAL=1;BYDAY=TH
EXDATE;TZID=Europe/Berlin:20171228T080000,20180104T080000
TRANSP:OPAQUE
END:VEVENT
END:VCALENDAR