BEGIN:VCALENDAR
VERSION:2.0
PRODID:-//jEvents 2.0 for Joomla//EN
CALSCALE:GREGORIAN
METHOD:PUBLISH
BEGIN:VTIMEZONE
TZID:Europe/Berlin
BEGIN:STANDARD
DTSTART:20170126T150000
RDATE:20170326T030000
TZOFFSETFROM:+0200
TZOFFSETTO:+0100
TZNAME:Europe/Berlin CET
END:STANDARD
BEGIN:STANDARD
DTSTART:20171029T020000
RDATE:20180325T030000
TZOFFSETFROM:+0200
TZOFFSETTO:+0100
TZNAME:Europe/Berlin CET
END:STANDARD
BEGIN:STANDARD
DTSTART:20181028T020000
RDATE:20190331T030000
TZOFFSETFROM:+0200
TZOFFSETTO:+0100
TZNAME:Europe/Berlin CET
END:STANDARD
BEGIN:STANDARD
DTSTART:20191027T020000
RDATE:20200329T030000
TZOFFSETFROM:+0200
TZOFFSETTO:+0100
TZNAME:Europe/Berlin CET
END:STANDARD
BEGIN:STANDARD
DTSTART:20201025T020000
RDATE:20210328T030000
TZOFFSETFROM:+0200
TZOFFSETTO:+0100
TZNAME:Europe/Berlin CET
END:STANDARD
BEGIN:STANDARD
DTSTART:20211031T020000
RDATE:20220327T030000
TZOFFSETFROM:+0200
TZOFFSETTO:+0100
TZNAME:Europe/Berlin CET
END:STANDARD
BEGIN:STANDARD
DTSTART:20221030T020000
RDATE:20230326T030000
TZOFFSETFROM:+0200
TZOFFSETTO:+0100
TZNAME:Europe/Berlin CET
END:STANDARD
BEGIN:STANDARD
DTSTART:20231029T020000
RDATE:20240331T030000
TZOFFSETFROM:+0200
TZOFFSETTO:+0100
TZNAME:Europe/Berlin CET
END:STANDARD
BEGIN:STANDARD
DTSTART:20241027T020000
RDATE:20250330T030000
TZOFFSETFROM:+0200
TZOFFSETTO:+0100
TZNAME:Europe/Berlin CET
END:STANDARD
BEGIN:STANDARD
DTSTART:20251026T020000
RDATE:20260329T030000
TZOFFSETFROM:+0200
TZOFFSETTO:+0100
TZNAME:Europe/Berlin CET
END:STANDARD
BEGIN:STANDARD
DTSTART:20261025T020000
RDATE:20270328T030000
TZOFFSETFROM:+0200
TZOFFSETTO:+0100
TZNAME:Europe/Berlin CET
END:STANDARD
BEGIN:STANDARD
DTSTART:20271031T020000
RDATE:20280326T030000
TZOFFSETFROM:+0200
TZOFFSETTO:+0100
TZNAME:Europe/Berlin CET
END:STANDARD
BEGIN:DAYLIGHT
DTSTART:20170326T030000
RDATE:20171029T020000
TZOFFSETFROM:+0100
TZOFFSETTO:+0200
TZNAME:Europe/Berlin CEST
END:DAYLIGHT
BEGIN:DAYLIGHT
DTSTART:20180325T030000
RDATE:20181028T020000
TZOFFSETFROM:+0100
TZOFFSETTO:+0200
TZNAME:Europe/Berlin CEST
END:DAYLIGHT
BEGIN:DAYLIGHT
DTSTART:20190331T030000
RDATE:20191027T020000
TZOFFSETFROM:+0100
TZOFFSETTO:+0200
TZNAME:Europe/Berlin CEST
END:DAYLIGHT
BEGIN:DAYLIGHT
DTSTART:20200329T030000
RDATE:20201025T020000
TZOFFSETFROM:+0100
TZOFFSETTO:+0200
TZNAME:Europe/Berlin CEST
END:DAYLIGHT
BEGIN:DAYLIGHT
DTSTART:20210328T030000
RDATE:20211031T020000
TZOFFSETFROM:+0100
TZOFFSETTO:+0200
TZNAME:Europe/Berlin CEST
END:DAYLIGHT
BEGIN:DAYLIGHT
DTSTART:20220327T030000
RDATE:20221030T020000
TZOFFSETFROM:+0100
TZOFFSETTO:+0200
TZNAME:Europe/Berlin CEST
END:DAYLIGHT
BEGIN:DAYLIGHT
DTSTART:20230326T030000
RDATE:20231029T020000
TZOFFSETFROM:+0100
TZOFFSETTO:+0200
TZNAME:Europe/Berlin CEST
END:DAYLIGHT
BEGIN:DAYLIGHT
DTSTART:20240331T030000
RDATE:20241027T020000
TZOFFSETFROM:+0100
TZOFFSETTO:+0200
TZNAME:Europe/Berlin CEST
END:DAYLIGHT
BEGIN:DAYLIGHT
DTSTART:20250330T030000
RDATE:20251026T020000
TZOFFSETFROM:+0100
TZOFFSETTO:+0200
TZNAME:Europe/Berlin CEST
END:DAYLIGHT
BEGIN:DAYLIGHT
DTSTART:20260329T030000
RDATE:20261025T020000
TZOFFSETFROM:+0100
TZOFFSETTO:+0200
TZNAME:Europe/Berlin CEST
END:DAYLIGHT
BEGIN:DAYLIGHT
DTSTART:20270328T030000
RDATE:20271031T020000
TZOFFSETFROM:+0100
TZOFFSETTO:+0200
TZNAME:Europe/Berlin CEST
END:DAYLIGHT
END:VTIMEZONE
BEGIN:VEVENT
UID:c3d7390154c9dfac0b4680c1bfc71689
CATEGORIES:ESG
CREATED:20180112T063834
SUMMARY:Rundgang gegen das Vergessen: “NS-Täter/in von nebenan – eine Spurensuche in Trier”
URL;VALUE=URI:https://esg-trier.de/veranstaltungskalender/eventeinzelheiten/4348/-/rundga
 ng-gegen-das-vergessen-“ns-täter-in-von-nebenan-–-eine-spurensuche-in-trier
 ”?tmpl=component
DESCRIPTION:Kostenlose Stadtführung zu Täter/innen des Nationalsozialismus aus Trier, i
 nklusive drei neuer Stationen zu Zwangssterilisierung in Trier und Erbgesun
 dheitspolitik.\nDauer ca 90 Min.\nTreffpunkt 15h: Friedens- und Umweltzentr
 um, Pfützenstraße 1.\nEine Veranstaltung im Rahmen der Ausstellung „Tiergar
 tenstraße 4“ zum Gedenktag für die Opfer des National­sozialismus (27. Janu
 ar) in Trier, die bis 9.2.2018 in der VHS Trier zu sehen ist.\n This event 
 was imported from: https://esg-trier.de/veranstaltungskalender/eventeinzelh
 eiten/4348/-/rundgang-gegen-das-vergessen-“ns-täter-in-von-nebenan-–-eine-s
 purensuche-in-trier”?tmpl=component (https://esg-trier.de/veranstaltungskal
 ender/eventeinzelheiten/4348/-/rundgang-gegen-das-vergessen-“ns-täter-in-vo
 n-nebenan-–-eine-spurensuche-in-trier”?tmpl=component)
X-ALT-DESC;FMTTYPE=text/html:<p style="text-align: left;">Kostenlose Stadtführung zu Täter/innen des Nat
 ionalsozialismus aus Trier, inklusive drei neuer Stationen zu Zwangssterili
 sierung in Trier und Erbgesundheitspolitik.</p><p style="text-align: left;"
 >Dauer ca 90 Min.</p><p style="text-align: left;">Treffpunkt 15h: Friedens-
  und Umweltzentrum, Pfützenstraße 1.</p><p style="text-align: left;">Eine V
 eranstaltung im Rahmen der Ausstellung „Tiergartenstraße 4“ zum Gedenktag f
 ür die Opfer des National­sozialismus (27. Januar) in Trier, die bis 9.2.20
 18 in der VHS Trier zu sehen ist.</p> <a href="https://esg-trier.de/veranst
 altungskalender/eventeinzelheiten/4348/-/rundgang-gegen-das-vergessen-“ns-t
 äter-in-von-nebenan-–-eine-spurensuche-in-trier”?tmpl=component">This event
  was imported from: https://esg-trier.de/veranstaltungskalender/eventeinzel
 heiten/4348/-/rundgang-gegen-das-vergessen-“ns-täter-in-von-nebenan-–-eine-
 spurensuche-in-trier”?tmpl=component</a>DTSTAMP:20260425T010244
DTSTART;TZID=Europe/Berlin:20180127T150000
DTEND;TZID=Europe/Berlin:20180127T163000
SEQUENCE:0
TRANSP:OPAQUE
END:VEVENT
END:VCALENDAR