BEGIN:VCALENDAR
VERSION:2.0
PRODID:-//jEvents 2.0 for Joomla//EN
CALSCALE:GREGORIAN
METHOD:PUBLISH
BEGIN:VTIMEZONE
TZID:Europe/Berlin
BEGIN:STANDARD
DTSTART:20170122T190000
RDATE:20170326T030000
TZOFFSETFROM:+0200
TZOFFSETTO:+0100
TZNAME:Europe/Berlin CET
END:STANDARD
BEGIN:STANDARD
DTSTART:20171029T020000
RDATE:20180325T030000
TZOFFSETFROM:+0200
TZOFFSETTO:+0100
TZNAME:Europe/Berlin CET
END:STANDARD
BEGIN:STANDARD
DTSTART:20181028T020000
RDATE:20190331T030000
TZOFFSETFROM:+0200
TZOFFSETTO:+0100
TZNAME:Europe/Berlin CET
END:STANDARD
BEGIN:STANDARD
DTSTART:20191027T020000
RDATE:20200329T030000
TZOFFSETFROM:+0200
TZOFFSETTO:+0100
TZNAME:Europe/Berlin CET
END:STANDARD
BEGIN:STANDARD
DTSTART:20201025T020000
RDATE:20210328T030000
TZOFFSETFROM:+0200
TZOFFSETTO:+0100
TZNAME:Europe/Berlin CET
END:STANDARD
BEGIN:STANDARD
DTSTART:20211031T020000
RDATE:20220327T030000
TZOFFSETFROM:+0200
TZOFFSETTO:+0100
TZNAME:Europe/Berlin CET
END:STANDARD
BEGIN:STANDARD
DTSTART:20221030T020000
RDATE:20230326T030000
TZOFFSETFROM:+0200
TZOFFSETTO:+0100
TZNAME:Europe/Berlin CET
END:STANDARD
BEGIN:STANDARD
DTSTART:20231029T020000
RDATE:20240331T030000
TZOFFSETFROM:+0200
TZOFFSETTO:+0100
TZNAME:Europe/Berlin CET
END:STANDARD
BEGIN:STANDARD
DTSTART:20241027T020000
RDATE:20250330T030000
TZOFFSETFROM:+0200
TZOFFSETTO:+0100
TZNAME:Europe/Berlin CET
END:STANDARD
BEGIN:STANDARD
DTSTART:20251026T020000
RDATE:20260329T030000
TZOFFSETFROM:+0200
TZOFFSETTO:+0100
TZNAME:Europe/Berlin CET
END:STANDARD
BEGIN:STANDARD
DTSTART:20261025T020000
RDATE:20270328T030000
TZOFFSETFROM:+0200
TZOFFSETTO:+0100
TZNAME:Europe/Berlin CET
END:STANDARD
BEGIN:STANDARD
DTSTART:20271031T020000
RDATE:20280326T030000
TZOFFSETFROM:+0200
TZOFFSETTO:+0100
TZNAME:Europe/Berlin CET
END:STANDARD
BEGIN:DAYLIGHT
DTSTART:20170326T030000
RDATE:20171029T020000
TZOFFSETFROM:+0100
TZOFFSETTO:+0200
TZNAME:Europe/Berlin CEST
END:DAYLIGHT
BEGIN:DAYLIGHT
DTSTART:20180325T030000
RDATE:20181028T020000
TZOFFSETFROM:+0100
TZOFFSETTO:+0200
TZNAME:Europe/Berlin CEST
END:DAYLIGHT
BEGIN:DAYLIGHT
DTSTART:20190331T030000
RDATE:20191027T020000
TZOFFSETFROM:+0100
TZOFFSETTO:+0200
TZNAME:Europe/Berlin CEST
END:DAYLIGHT
BEGIN:DAYLIGHT
DTSTART:20200329T030000
RDATE:20201025T020000
TZOFFSETFROM:+0100
TZOFFSETTO:+0200
TZNAME:Europe/Berlin CEST
END:DAYLIGHT
BEGIN:DAYLIGHT
DTSTART:20210328T030000
RDATE:20211031T020000
TZOFFSETFROM:+0100
TZOFFSETTO:+0200
TZNAME:Europe/Berlin CEST
END:DAYLIGHT
BEGIN:DAYLIGHT
DTSTART:20220327T030000
RDATE:20221030T020000
TZOFFSETFROM:+0100
TZOFFSETTO:+0200
TZNAME:Europe/Berlin CEST
END:DAYLIGHT
BEGIN:DAYLIGHT
DTSTART:20230326T030000
RDATE:20231029T020000
TZOFFSETFROM:+0100
TZOFFSETTO:+0200
TZNAME:Europe/Berlin CEST
END:DAYLIGHT
BEGIN:DAYLIGHT
DTSTART:20240331T030000
RDATE:20241027T020000
TZOFFSETFROM:+0100
TZOFFSETTO:+0200
TZNAME:Europe/Berlin CEST
END:DAYLIGHT
BEGIN:DAYLIGHT
DTSTART:20250330T030000
RDATE:20251026T020000
TZOFFSETFROM:+0100
TZOFFSETTO:+0200
TZNAME:Europe/Berlin CEST
END:DAYLIGHT
BEGIN:DAYLIGHT
DTSTART:20260329T030000
RDATE:20261025T020000
TZOFFSETFROM:+0100
TZOFFSETTO:+0200
TZNAME:Europe/Berlin CEST
END:DAYLIGHT
BEGIN:DAYLIGHT
DTSTART:20270328T030000
RDATE:20271031T020000
TZOFFSETFROM:+0100
TZOFFSETTO:+0200
TZNAME:Europe/Berlin CEST
END:DAYLIGHT
END:VTIMEZONE
BEGIN:VEVENT
UID:c90b9964a74b9dd8e0fdb75cb8146da9
CATEGORIES:ESG
CREATED:20180112T064226
SUMMARY:Vortrag „Euthanasie in der Anstalt Andernach und die Erinnerung daran“
LOCATION:VHS Trier
URL;VALUE=URI:https://esg-trier.de/veranstaltungskalender/eventeinzelheiten/4350/-/vortra
 g-„euthanasie-in-der-anstalt-andernach-und-die-erinnerung-daran“?tmpl=compo
 nent
DESCRIPTION:Referent: Günter Haffke, Vorsitzender des Historischen Vereins Andernach, M
 itinitiator des Andernacher Spiegel-Containers, Mahnmal für die Euthanasie-
 Opfer in Andernach. VHS Trier Domfreihof Raum 5.\nDie Initiative und der En
 twurf für den Andernacher Spiegelcontainer gingen aus einer Projektgruppe d
 es Andernacher Bertha-von-Suttner-Gymnasiums hervor. Das Denkmalprojekt kon
 nte, von lebhaften Diskussionen begleitet, mit Hilfe von engagierten Bürger
 n verwirklicht werden. Es wurde am 27. Mai 1996 eingeweiht und befindet sic
 h auf dem Gelände der evangelischen Christuskirche im Stadtzentrum.  (https
 ://www.memorialmuseums.org/img/cache/00fbf98099e6f887d77320c44a48aa57_w894_
 h600.jpg)Die Form des Denkmals ist den »T4«- Transportfahrzeugen und -Gaska
 mmern nach empfunden. In dem mit Spiegeln verkleideten Innenraum sind alle 
 ermittelten Namen von Opfern eingraviert. Zwischen den Namen stehen 400 Pun
 kte für weitere Opfer, deren Identität bisher nicht ermittelt werden konnte
 .\n \nEine Veranstaltung im Rahmen der Ausstellung „Tiergartenstraße 4“ zum
  Gedenktag für die Opfer des National­sozialismus (27. Januar) in Trier, di
 e bis 9.2.2018 in der VHS Trier zu sehen ist. This event was imported from:
  https://esg-trier.de/veranstaltungskalender/eventeinzelheiten/4350/-/vortr
 ag-„euthanasie-in-der-anstalt-andernach-und-die-erinnerung-daran“?tmpl=comp
 onent (https://esg-trier.de/veranstaltungskalender/eventeinzelheiten/4350/-
 /vortrag-„euthanasie-in-der-anstalt-andernach-und-die-erinnerung-daran“?tmp
 l=component)
X-ALT-DESC;FMTTYPE=text/html:<p>Referent: Günter Haffke, Vorsitzender des Historischen Vereins Andernach
 , Mitinitiator des Andernacher Spiegel-Containers, Mahnmal für die Euthanas
 ie-Opfer in Andernach. VHS Trier Domfreihof Raum 5.</p><p>Die Initiative un
 d der Entwurf für den Andernacher Spiegelcontainer gingen aus einer Projekt
 gruppe des Andernacher Bertha-von-Suttner-Gymnasiums hervor. Das Denkmalpro
 jekt konnte, von lebhaften Diskussionen begleitet, mit Hilfe von engagierte
 n Bürgern verwirklicht werden. Es wurde am 27. Mai 1996 eingeweiht und befi
 ndet sich auf dem Gelände der evangelischen Christuskirche im Stadtzentrum.
 <a href="https://www.memorialmuseums.org/img/cache/00fbf98099e6f887d77320c4
 4a48aa57_w894_h600.jpg" id="element_1"> </a>Die Form des Denkmals ist den »
 T4«- Transportfahrzeugen und -Gaskammern nach empfunden. In dem mit Spiegel
 n verkleideten Innenraum sind alle ermittelten Namen von Opfern eingraviert
 . Zwischen den Namen stehen 400 Punkte für weitere Opfer, deren Identität b
 isher nicht ermittelt werden konnte.</p><p>&nbsp;</p><div style="text-align
 : left;"><em>Eine Veranstaltung im Rahmen der Ausstellung „Tiergartenstraße
  4“ zum Gedenktag für die Opfer des National­sozialismus (27. Januar) in Tr
 ier, die bis 9.2.2018 in der VHS Trier zu sehen ist.</em></div> <a href="ht
 tps://esg-trier.de/veranstaltungskalender/eventeinzelheiten/4350/-/vortrag-
 „euthanasie-in-der-anstalt-andernach-und-die-erinnerung-daran“?tmpl=compone
 nt">This event was imported from: https://esg-trier.de/veranstaltungskalend
 er/eventeinzelheiten/4350/-/vortrag-„euthanasie-in-der-anstalt-andernach-un
 d-die-erinnerung-daran“?tmpl=component</a>DTSTAMP:20260425T111319
DTSTART;TZID=Europe/Berlin:20180123T190000
DTEND;TZID=Europe/Berlin:20180123T203000
SEQUENCE:0
TRANSP:OPAQUE
END:VEVENT
END:VCALENDAR