BEGIN:VCALENDAR
VERSION:2.0
PRODID:-//jEvents 2.0 for Joomla//EN
CALSCALE:GREGORIAN
METHOD:PUBLISH
BEGIN:VTIMEZONE
TZID:Europe/Berlin
BEGIN:STANDARD
DTSTART:20191027T020000
RDATE:20200329T030000
TZOFFSETFROM:+0200
TZOFFSETTO:+0100
TZNAME:Europe/Berlin CET
END:STANDARD
BEGIN:STANDARD
DTSTART:20201025T020000
RDATE:20210328T030000
TZOFFSETFROM:+0200
TZOFFSETTO:+0100
TZNAME:Europe/Berlin CET
END:STANDARD
BEGIN:STANDARD
DTSTART:20211031T020000
RDATE:20220327T030000
TZOFFSETFROM:+0200
TZOFFSETTO:+0100
TZNAME:Europe/Berlin CET
END:STANDARD
BEGIN:STANDARD
DTSTART:20221030T020000
RDATE:20230326T030000
TZOFFSETFROM:+0200
TZOFFSETTO:+0100
TZNAME:Europe/Berlin CET
END:STANDARD
BEGIN:STANDARD
DTSTART:20231029T020000
RDATE:20240331T030000
TZOFFSETFROM:+0200
TZOFFSETTO:+0100
TZNAME:Europe/Berlin CET
END:STANDARD
BEGIN:STANDARD
DTSTART:20241027T020000
RDATE:20250330T030000
TZOFFSETFROM:+0200
TZOFFSETTO:+0100
TZNAME:Europe/Berlin CET
END:STANDARD
BEGIN:STANDARD
DTSTART:20251026T020000
RDATE:20260329T030000
TZOFFSETFROM:+0200
TZOFFSETTO:+0100
TZNAME:Europe/Berlin CET
END:STANDARD
BEGIN:STANDARD
DTSTART:20261025T020000
RDATE:20270328T030000
TZOFFSETFROM:+0200
TZOFFSETTO:+0100
TZNAME:Europe/Berlin CET
END:STANDARD
BEGIN:STANDARD
DTSTART:20271031T020000
RDATE:20280326T030000
TZOFFSETFROM:+0200
TZOFFSETTO:+0100
TZNAME:Europe/Berlin CET
END:STANDARD
BEGIN:DAYLIGHT
DTSTART:20190407T181500
RDATE:20191027T020000
TZOFFSETFROM:+0100
TZOFFSETTO:+0200
TZNAME:Europe/Berlin CEST
END:DAYLIGHT
BEGIN:DAYLIGHT
DTSTART:20200329T030000
RDATE:20201025T020000
TZOFFSETFROM:+0100
TZOFFSETTO:+0200
TZNAME:Europe/Berlin CEST
END:DAYLIGHT
BEGIN:DAYLIGHT
DTSTART:20210328T030000
RDATE:20211031T020000
TZOFFSETFROM:+0100
TZOFFSETTO:+0200
TZNAME:Europe/Berlin CEST
END:DAYLIGHT
BEGIN:DAYLIGHT
DTSTART:20220327T030000
RDATE:20221030T020000
TZOFFSETFROM:+0100
TZOFFSETTO:+0200
TZNAME:Europe/Berlin CEST
END:DAYLIGHT
BEGIN:DAYLIGHT
DTSTART:20230326T030000
RDATE:20231029T020000
TZOFFSETFROM:+0100
TZOFFSETTO:+0200
TZNAME:Europe/Berlin CEST
END:DAYLIGHT
BEGIN:DAYLIGHT
DTSTART:20240331T030000
RDATE:20241027T020000
TZOFFSETFROM:+0100
TZOFFSETTO:+0200
TZNAME:Europe/Berlin CEST
END:DAYLIGHT
BEGIN:DAYLIGHT
DTSTART:20250330T030000
RDATE:20251026T020000
TZOFFSETFROM:+0100
TZOFFSETTO:+0200
TZNAME:Europe/Berlin CEST
END:DAYLIGHT
BEGIN:DAYLIGHT
DTSTART:20260329T030000
RDATE:20261025T020000
TZOFFSETFROM:+0100
TZOFFSETTO:+0200
TZNAME:Europe/Berlin CEST
END:DAYLIGHT
BEGIN:DAYLIGHT
DTSTART:20270328T030000
RDATE:20271031T020000
TZOFFSETFROM:+0100
TZOFFSETTO:+0200
TZNAME:Europe/Berlin CEST
END:DAYLIGHT
END:VTIMEZONE
BEGIN:VEVENT
UID:07cdafc9e93326eab2de0a2361cbd9aa
CATEGORIES:ESG
CREATED:20200430T133031
SUMMARY:**ENTFÄLLT** Andacht **ENTFÄLLT
LOCATION:Kirche im Keller
URL;VALUE=URI:https://esg-trier.de/veranstaltungskalender/eventeinzelheiten/4707/-/entfäl
 lt-andacht-entfällt?tmpl=component
DESCRIPTION:Heute: Der Tod ist besiegt – OsternAuch in diesem Semester werden wir regel
 mäßig zusammen Gottesdienst feiern – gemeinsam singen, beten, auf die Bibel
  hören und darüber austauschen. Mal in Form eines Bibliologes, mal als Lied
 erandacht, mal auf ganz andere, überraschende Weise. Thematisch orientieren
  wir uns in diesem Semester am Kirchenjahr:\n„Vom Wachsen der Kirche. Von d
 er Befreiung der Menschen. Und dem Entstehen einer gerechten Gesellschaft.“
 \n \n This event was imported from: https://esg-trier.de/veranstaltungskale
 nder/eventeinzelheiten/4707/-/entfällt-andacht-entfällt?tmpl=component (htt
 ps://esg-trier.de/veranstaltungskalender/eventeinzelheiten/4707/-/entfällt-
 andacht-entfällt?tmpl=component)
X-ALT-DESC;FMTTYPE=text/html:<h1>Heute: Der Tod ist besiegt – Ostern</h1><p>Auch in diesem Semester werd
 en wir regelmäßig zusammen Gottesdienst feiern – gemeinsam singen, beten, a
 uf die Bibel hören und darüber austauschen. Mal in Form eines Bibliologes, 
 mal als Liederandacht, mal auf ganz andere, überraschende Weise. Thematisch
  orientieren wir uns in diesem Semester am Kirchenjahr:<br />„Vom Wachsen d
 er Kirche. Von der Befreiung der Menschen. Und dem Entstehen einer gerechte
 n Gesellschaft.“</p><p>&nbsp;</p> <a href="https://esg-trier.de/veranstaltu
 ngskalender/eventeinzelheiten/4707/-/entfällt-andacht-entfällt?tmpl=compone
 nt">This event was imported from: https://esg-trier.de/veranstaltungskalend
 er/eventeinzelheiten/4707/-/entfällt-andacht-entfällt?tmpl=component</a>DTSTAMP:20260423T042803
DTSTART;TZID=Europe/Berlin:20200407T181500
DTEND;TZID=Europe/Berlin:20200407T190000
SEQUENCE:0
TRANSP:OPAQUE
END:VEVENT
END:VCALENDAR