BEGIN:VCALENDAR
VERSION:2.0
PRODID:-//jEvents 2.0 for Joomla//EN
CALSCALE:GREGORIAN
METHOD:PUBLISH
BEGIN:VTIMEZONE
TZID:Europe/Berlin
BEGIN:STANDARD
DTSTART:20191027T020000
RDATE:20200329T030000
TZOFFSETFROM:+0200
TZOFFSETTO:+0100
TZNAME:Europe/Berlin CET
END:STANDARD
BEGIN:STANDARD
DTSTART:20201025T020000
RDATE:20210328T030000
TZOFFSETFROM:+0200
TZOFFSETTO:+0100
TZNAME:Europe/Berlin CET
END:STANDARD
BEGIN:STANDARD
DTSTART:20211031T020000
RDATE:20220327T030000
TZOFFSETFROM:+0200
TZOFFSETTO:+0100
TZNAME:Europe/Berlin CET
END:STANDARD
BEGIN:STANDARD
DTSTART:20221030T020000
RDATE:20230326T030000
TZOFFSETFROM:+0200
TZOFFSETTO:+0100
TZNAME:Europe/Berlin CET
END:STANDARD
BEGIN:STANDARD
DTSTART:20231029T020000
RDATE:20240331T030000
TZOFFSETFROM:+0200
TZOFFSETTO:+0100
TZNAME:Europe/Berlin CET
END:STANDARD
BEGIN:STANDARD
DTSTART:20241027T020000
RDATE:20250330T030000
TZOFFSETFROM:+0200
TZOFFSETTO:+0100
TZNAME:Europe/Berlin CET
END:STANDARD
BEGIN:STANDARD
DTSTART:20251026T020000
RDATE:20260329T030000
TZOFFSETFROM:+0200
TZOFFSETTO:+0100
TZNAME:Europe/Berlin CET
END:STANDARD
BEGIN:STANDARD
DTSTART:20261025T020000
RDATE:20270328T030000
TZOFFSETFROM:+0200
TZOFFSETTO:+0100
TZNAME:Europe/Berlin CET
END:STANDARD
BEGIN:STANDARD
DTSTART:20271031T020000
RDATE:20280326T030000
TZOFFSETFROM:+0200
TZOFFSETTO:+0100
TZNAME:Europe/Berlin CET
END:STANDARD
BEGIN:DAYLIGHT
DTSTART:20190421T181500
RDATE:20191027T020000
TZOFFSETFROM:+0100
TZOFFSETTO:+0200
TZNAME:Europe/Berlin CEST
END:DAYLIGHT
BEGIN:DAYLIGHT
DTSTART:20200329T030000
RDATE:20201025T020000
TZOFFSETFROM:+0100
TZOFFSETTO:+0200
TZNAME:Europe/Berlin CEST
END:DAYLIGHT
BEGIN:DAYLIGHT
DTSTART:20210328T030000
RDATE:20211031T020000
TZOFFSETFROM:+0100
TZOFFSETTO:+0200
TZNAME:Europe/Berlin CEST
END:DAYLIGHT
BEGIN:DAYLIGHT
DTSTART:20220327T030000
RDATE:20221030T020000
TZOFFSETFROM:+0100
TZOFFSETTO:+0200
TZNAME:Europe/Berlin CEST
END:DAYLIGHT
BEGIN:DAYLIGHT
DTSTART:20230326T030000
RDATE:20231029T020000
TZOFFSETFROM:+0100
TZOFFSETTO:+0200
TZNAME:Europe/Berlin CEST
END:DAYLIGHT
BEGIN:DAYLIGHT
DTSTART:20240331T030000
RDATE:20241027T020000
TZOFFSETFROM:+0100
TZOFFSETTO:+0200
TZNAME:Europe/Berlin CEST
END:DAYLIGHT
BEGIN:DAYLIGHT
DTSTART:20250330T030000
RDATE:20251026T020000
TZOFFSETFROM:+0100
TZOFFSETTO:+0200
TZNAME:Europe/Berlin CEST
END:DAYLIGHT
BEGIN:DAYLIGHT
DTSTART:20260329T030000
RDATE:20261025T020000
TZOFFSETFROM:+0100
TZOFFSETTO:+0200
TZNAME:Europe/Berlin CEST
END:DAYLIGHT
BEGIN:DAYLIGHT
DTSTART:20270328T030000
RDATE:20271031T020000
TZOFFSETFROM:+0100
TZOFFSETTO:+0200
TZNAME:Europe/Berlin CEST
END:DAYLIGHT
END:VTIMEZONE
BEGIN:VEVENT
UID:2ef7cbd42c8fd8b2c46f058e6bb671d1
CATEGORIES:ESG
CREATED:20200430T135230
SUMMARY:**ENTFÄLLT** After Work Wine Tasting **ENTFÄLLT
LOCATION:Clubraum
URL;VALUE=URI:https://esg-trier.de/veranstaltungskalender/eventeinzelheiten/4740/-/entfäl
 lt-after-work-wine-tasting-entfällt?tmpl=component
DESCRIPTION:Heute:      Der Klassiker – Riesling\n \nSehr, sehr schön, dieses AWWT. Leu
 te kommen für eine  Stunde zusammen, probieren zwei  verschiedene  Vertrete
 r einer Rebsorte, kommen darüber ins Gespräch und freuen sich, wie verschie
 den Weine doch sein können.  Hier liegt preiswerte Qualität zu freundlichen
  Preisen im Glas! Und nach einer Stunde ist alles vorbei; wer möchte, kann 
 natürlich auch gerne länger bleiben.\n This event was imported from: https:
 //esg-trier.de/veranstaltungskalender/eventeinzelheiten/4740/-/entfällt-aft
 er-work-wine-tasting-entfällt?tmpl=component (https://esg-trier.de/veransta
 ltungskalender/eventeinzelheiten/4740/-/entfällt-after-work-wine-tasting-en
 tfällt?tmpl=component)
X-ALT-DESC;FMTTYPE=text/html:<p>Heute: &nbsp;&nbsp;&nbsp; &nbsp;Der Klassiker – Riesling</p><p>&nbsp;</p
 ><p>Sehr, sehr schön, dieses AWWT. Leute kommen für eine&nbsp; Stunde zusam
 men, probieren zwei&nbsp; verschiedene&nbsp; Vertreter einer Rebsorte, komm
 en darüber ins Gespräch und freuen sich, wie verschieden Weine doch sein kö
 nnen.&nbsp; Hier liegt preiswerte Qualität zu freundlichen Preisen im Glas!
  Und nach einer Stunde ist alles vorbei; wer möchte, kann natürlich auch ge
 rne länger bleiben.</p> <a href="https://esg-trier.de/veranstaltungskalende
 r/eventeinzelheiten/4740/-/entfällt-after-work-wine-tasting-entfällt?tmpl=c
 omponent">This event was imported from: https://esg-trier.de/veranstaltungs
 kalender/eventeinzelheiten/4740/-/entfällt-after-work-wine-tasting-entfällt
 ?tmpl=component</a>DTSTAMP:20260423T024139
DTSTART;TZID=Europe/Berlin:20200421T181500
DTEND;TZID=Europe/Berlin:20200421T190000
SEQUENCE:0
TRANSP:OPAQUE
END:VEVENT
END:VCALENDAR