BEGIN:VCALENDAR
VERSION:2.0
PRODID:-//jEvents 2.0 for Joomla//EN
CALSCALE:GREGORIAN
METHOD:PUBLISH
BEGIN:VTIMEZONE
TZID:Europe/Berlin
BEGIN:STANDARD
DTSTART:20191027T020000
RDATE:20200329T030000
TZOFFSETFROM:+0200
TZOFFSETTO:+0100
TZNAME:Europe/Berlin CET
END:STANDARD
BEGIN:STANDARD
DTSTART:20201025T020000
RDATE:20210328T030000
TZOFFSETFROM:+0200
TZOFFSETTO:+0100
TZNAME:Europe/Berlin CET
END:STANDARD
BEGIN:STANDARD
DTSTART:20211031T020000
RDATE:20220327T030000
TZOFFSETFROM:+0200
TZOFFSETTO:+0100
TZNAME:Europe/Berlin CET
END:STANDARD
BEGIN:STANDARD
DTSTART:20221030T020000
RDATE:20230326T030000
TZOFFSETFROM:+0200
TZOFFSETTO:+0100
TZNAME:Europe/Berlin CET
END:STANDARD
BEGIN:STANDARD
DTSTART:20231029T020000
RDATE:20240331T030000
TZOFFSETFROM:+0200
TZOFFSETTO:+0100
TZNAME:Europe/Berlin CET
END:STANDARD
BEGIN:STANDARD
DTSTART:20241027T020000
RDATE:20250330T030000
TZOFFSETFROM:+0200
TZOFFSETTO:+0100
TZNAME:Europe/Berlin CET
END:STANDARD
BEGIN:STANDARD
DTSTART:20251026T020000
RDATE:20260329T030000
TZOFFSETFROM:+0200
TZOFFSETTO:+0100
TZNAME:Europe/Berlin CET
END:STANDARD
BEGIN:STANDARD
DTSTART:20261025T020000
RDATE:20270328T030000
TZOFFSETFROM:+0200
TZOFFSETTO:+0100
TZNAME:Europe/Berlin CET
END:STANDARD
BEGIN:STANDARD
DTSTART:20271031T020000
RDATE:20280326T030000
TZOFFSETFROM:+0200
TZOFFSETTO:+0100
TZNAME:Europe/Berlin CET
END:STANDARD
BEGIN:DAYLIGHT
DTSTART:20190427T160000
RDATE:20191027T020000
TZOFFSETFROM:+0100
TZOFFSETTO:+0200
TZNAME:Europe/Berlin CEST
END:DAYLIGHT
BEGIN:DAYLIGHT
DTSTART:20200329T030000
RDATE:20201025T020000
TZOFFSETFROM:+0100
TZOFFSETTO:+0200
TZNAME:Europe/Berlin CEST
END:DAYLIGHT
BEGIN:DAYLIGHT
DTSTART:20210328T030000
RDATE:20211031T020000
TZOFFSETFROM:+0100
TZOFFSETTO:+0200
TZNAME:Europe/Berlin CEST
END:DAYLIGHT
BEGIN:DAYLIGHT
DTSTART:20220327T030000
RDATE:20221030T020000
TZOFFSETFROM:+0100
TZOFFSETTO:+0200
TZNAME:Europe/Berlin CEST
END:DAYLIGHT
BEGIN:DAYLIGHT
DTSTART:20230326T030000
RDATE:20231029T020000
TZOFFSETFROM:+0100
TZOFFSETTO:+0200
TZNAME:Europe/Berlin CEST
END:DAYLIGHT
BEGIN:DAYLIGHT
DTSTART:20240331T030000
RDATE:20241027T020000
TZOFFSETFROM:+0100
TZOFFSETTO:+0200
TZNAME:Europe/Berlin CEST
END:DAYLIGHT
BEGIN:DAYLIGHT
DTSTART:20250330T030000
RDATE:20251026T020000
TZOFFSETFROM:+0100
TZOFFSETTO:+0200
TZNAME:Europe/Berlin CEST
END:DAYLIGHT
BEGIN:DAYLIGHT
DTSTART:20260329T030000
RDATE:20261025T020000
TZOFFSETFROM:+0100
TZOFFSETTO:+0200
TZNAME:Europe/Berlin CEST
END:DAYLIGHT
BEGIN:DAYLIGHT
DTSTART:20270328T030000
RDATE:20271031T020000
TZOFFSETFROM:+0100
TZOFFSETTO:+0200
TZNAME:Europe/Berlin CEST
END:DAYLIGHT
END:VTIMEZONE
BEGIN:VEVENT
UID:abf32e99ee779628b2f31754a4657bd0
CATEGORIES:Hinweise
CREATED:20200430T140136
SUMMARY:**ENTFÄLLT** Studientag des  Vereins für Rheinische Kirchengeschichte **ENTFÄLLT**
LOCATION:Universität Koblenz-Landau\, Archiv der Evangelischen Kirche im Rheinland Z
 weigstelle Boppard
URL;VALUE=URI:https://esg-trier.de/veranstaltungskalender/eventeinzelheiten/4742/-/entfäl
 lt-studientag-des-vereins-für-rheinische-kirchengeschichte-entfällt?tmpl=co
 mponent
DESCRIPTION:tudientag  für Studies und an der Rheinischen Kirchengeschichte Interessier
 te, der Verein für Rheinische Kirchengeschichte – wer kennt ihn nicht? - ve
 ranstaltet am 27. April diesen Jahres einen Studientag, um interessierte St
 udies und bereits Engagierte aus verschiedenen Bereichen und Regionen zusam
 men- und ins Gespräch zu bringen. Da machen wir als ESG Trier doch gerne mi
 t.\nWir beginnen um 10.00 Uhr auf dem Campus Koblenz-Metternich, Raum D 239
 , der Uni Koblenz-Landau und werden Gelegenheit zu wechselseitigem Austausc
 h unserer Interessen und zum Kennenlernen der Strukturen innerhalb der Rhei
 nischen KG-Forschung haben. \nProf. Dr. Thomas Martin Schneider(Universität
  Koblenz-Landau) wird uns an diesem Vormittag begleiten. \nDanach können wi
 r in der Mensa zu Mittag essen, bevor es gegen 13 Uhr weitergeht in die Auß
 enstelle des Landeskirchlichen Archivs in Boppard, wo uns der Leiter des Ar
 chivs Dr. Andreas Metzing die Arbeit des Archivs zeigen wird. Das Ende der 
 Veranstaltung soll zwischen 16 und 16.30 Uhr sein. Den Transfer von Koblenz
  nach Boppard wollen wir möglichst mit Privatautos organisieren.\nDamit wir
  den Transfer und das Mittagessen planen können, bitten wir um eine Anmeldu
 ng bis spätestens Ostern (12. April), entweder über die Homepage des Verein
 s für \nRheinische Kirchengeschichte(https://www.vrkg.de/), oder an Jörg od
 er Andreas.\n This event was imported from: https://esg-trier.de/veranstalt
 ungskalender/eventeinzelheiten/4742/-/entfällt-studientag-des-vereins-für-r
 heinische-kirchengeschichte-entfällt?tmpl=component (https://esg-trier.de/v
 eranstaltungskalender/eventeinzelheiten/4742/-/entfällt-studientag-des-vere
 ins-für-rheinische-kirchengeschichte-entfällt?tmpl=component)
X-ALT-DESC;FMTTYPE=text/html:<p>tudientag&nbsp; für Studies und an der Rheinischen Kirchengeschichte Int
 eressierte, der Verein für Rheinische Kirchengeschichte – wer kennt ihn nic
 ht? - veranstaltet am 27. April diesen Jahres einen Studientag, um interess
 ierte Studies und bereits Engagierte aus verschiedenen Bereichen und Region
 en zusammen- und ins Gespräch zu bringen. Da machen wir als ESG Trier doch 
 gerne mit.</p><p>Wir beginnen um 10.00 Uhr auf dem Campus Koblenz-Metternic
 h, Raum D 239, der Uni Koblenz-Landau und werden Gelegenheit zu wechselseit
 igem Austausch unserer Interessen und zum Kennenlernen der Strukturen inner
 halb der Rheinischen KG-Forschung haben. <br />Prof. Dr. Thomas Martin Schn
 eider(Universität Koblenz-Landau) wird uns an diesem Vormittag begleiten. <
 br />Danach können wir in der Mensa zu Mittag essen, bevor es gegen 13 Uhr 
 weitergeht in die Außenstelle des Landeskirchlichen Archivs in Boppard, wo 
 uns der Leiter des Archivs Dr. Andreas Metzing die Arbeit des Archivs zeige
 n wird. Das Ende der Veranstaltung soll zwischen 16 und 16.30 Uhr sein. Den
  Transfer von Koblenz nach Boppard wollen wir möglichst mit Privatautos org
 anisieren.</p><p>Damit wir den Transfer und das Mittagessen planen können, 
 bitten wir um eine Anmeldung bis spätestens Ostern (12. April), entweder üb
 er die Homepage des Vereins für <br />Rheinische Kirchengeschichte(https://
 www.vrkg.de/), oder an Jörg oder Andreas.</p> <a href="https://esg-trier.de
 /veranstaltungskalender/eventeinzelheiten/4742/-/entfällt-studientag-des-ve
 reins-für-rheinische-kirchengeschichte-entfällt?tmpl=component">This event 
 was imported from: https://esg-trier.de/veranstaltungskalender/eventeinzelh
 eiten/4742/-/entfällt-studientag-des-vereins-für-rheinische-kirchengeschich
 te-entfällt?tmpl=component</a>DTSTAMP:20260420T235953
DTSTART;TZID=Europe/Berlin:20200427T160000
DTEND;TZID=Europe/Berlin:20200427T163000
SEQUENCE:0
TRANSP:OPAQUE
END:VEVENT
END:VCALENDAR