BEGIN:VCALENDAR
VERSION:2.0
PRODID:-//jEvents 2.0 for Joomla//EN
CALSCALE:GREGORIAN
METHOD:PUBLISH
BEGIN:VTIMEZONE
TZID:Europe/Berlin
BEGIN:STANDARD
DTSTART:20191027T020000
RDATE:20200329T030000
TZOFFSETFROM:+0200
TZOFFSETTO:+0100
TZNAME:Europe/Berlin CET
END:STANDARD
BEGIN:STANDARD
DTSTART:20201025T020000
RDATE:20210328T030000
TZOFFSETFROM:+0200
TZOFFSETTO:+0100
TZNAME:Europe/Berlin CET
END:STANDARD
BEGIN:STANDARD
DTSTART:20211031T020000
RDATE:20220327T030000
TZOFFSETFROM:+0200
TZOFFSETTO:+0100
TZNAME:Europe/Berlin CET
END:STANDARD
BEGIN:STANDARD
DTSTART:20221030T020000
RDATE:20230326T030000
TZOFFSETFROM:+0200
TZOFFSETTO:+0100
TZNAME:Europe/Berlin CET
END:STANDARD
BEGIN:STANDARD
DTSTART:20231029T020000
RDATE:20240331T030000
TZOFFSETFROM:+0200
TZOFFSETTO:+0100
TZNAME:Europe/Berlin CET
END:STANDARD
BEGIN:STANDARD
DTSTART:20241027T020000
RDATE:20250330T030000
TZOFFSETFROM:+0200
TZOFFSETTO:+0100
TZNAME:Europe/Berlin CET
END:STANDARD
BEGIN:STANDARD
DTSTART:20251026T020000
RDATE:20260329T030000
TZOFFSETFROM:+0200
TZOFFSETTO:+0100
TZNAME:Europe/Berlin CET
END:STANDARD
BEGIN:STANDARD
DTSTART:20261025T020000
RDATE:20270328T030000
TZOFFSETFROM:+0200
TZOFFSETTO:+0100
TZNAME:Europe/Berlin CET
END:STANDARD
BEGIN:STANDARD
DTSTART:20271031T020000
RDATE:20280326T030000
TZOFFSETFROM:+0200
TZOFFSETTO:+0100
TZNAME:Europe/Berlin CET
END:STANDARD
BEGIN:DAYLIGHT
DTSTART:20190511T183000
RDATE:20191027T020000
TZOFFSETFROM:+0100
TZOFFSETTO:+0200
TZNAME:Europe/Berlin CEST
END:DAYLIGHT
BEGIN:DAYLIGHT
DTSTART:20200329T030000
RDATE:20201025T020000
TZOFFSETFROM:+0100
TZOFFSETTO:+0200
TZNAME:Europe/Berlin CEST
END:DAYLIGHT
BEGIN:DAYLIGHT
DTSTART:20210328T030000
RDATE:20211031T020000
TZOFFSETFROM:+0100
TZOFFSETTO:+0200
TZNAME:Europe/Berlin CEST
END:DAYLIGHT
BEGIN:DAYLIGHT
DTSTART:20220327T030000
RDATE:20221030T020000
TZOFFSETFROM:+0100
TZOFFSETTO:+0200
TZNAME:Europe/Berlin CEST
END:DAYLIGHT
BEGIN:DAYLIGHT
DTSTART:20230326T030000
RDATE:20231029T020000
TZOFFSETFROM:+0100
TZOFFSETTO:+0200
TZNAME:Europe/Berlin CEST
END:DAYLIGHT
BEGIN:DAYLIGHT
DTSTART:20240331T030000
RDATE:20241027T020000
TZOFFSETFROM:+0100
TZOFFSETTO:+0200
TZNAME:Europe/Berlin CEST
END:DAYLIGHT
BEGIN:DAYLIGHT
DTSTART:20250330T030000
RDATE:20251026T020000
TZOFFSETFROM:+0100
TZOFFSETTO:+0200
TZNAME:Europe/Berlin CEST
END:DAYLIGHT
BEGIN:DAYLIGHT
DTSTART:20260329T030000
RDATE:20261025T020000
TZOFFSETFROM:+0100
TZOFFSETTO:+0200
TZNAME:Europe/Berlin CEST
END:DAYLIGHT
BEGIN:DAYLIGHT
DTSTART:20270328T030000
RDATE:20271031T020000
TZOFFSETFROM:+0100
TZOFFSETTO:+0200
TZNAME:Europe/Berlin CEST
END:DAYLIGHT
END:VTIMEZONE
BEGIN:VEVENT
UID:0091f91cb3cb79cdf477e1532dd228e8
CATEGORIES:ESG
CREATED:20200430T140819
SUMMARY:ENTFÄLLT - Kochkurs in der ESG
LOCATION:Küche im OG
URL;VALUE=URI:https://esg-trier.de/veranstaltungskalender/eventeinzelheiten/4744/-/entfäl
 lt-kochkurs-in-der-esg?tmpl=component
DESCRIPTION:Heute:     IndischChicken Mango Curry – Dalsuppe – Kartoffel-Gemüsecurry  -
  Linsen KichererbsenpfanneAnmeldungen für diesen Abend \nbis zum 30.04.2020
  in der ESG.\n\nMax. 8 Personen\n\nWir kaufen für den Abend ein.\nIhr lernt
 , bereitet zu, lasst euch \ndie Leckereien schmecken \nund gebt uns dafür: 
 \n10,-€ (Studierende; andere 20,-€).\n This event was imported from: https:
 //esg-trier.de/veranstaltungskalender/eventeinzelheiten/4744/-/entfällt-koc
 hkurs-in-der-esg?tmpl=component (https://esg-trier.de/veranstaltungskalende
 r/eventeinzelheiten/4744/-/entfällt-kochkurs-in-der-esg?tmpl=component)
X-ALT-DESC;FMTTYPE=text/html:<h1>Heute: &nbsp;&nbsp;&nbsp; Indisch</h1><h2>Chicken Mango Curry – Dalsupp
 e – Kartoffel-Gemüsecurry&nbsp; - Linsen Kichererbsenpfanne</h2><p>Anmeldun
 gen für diesen Abend <br />bis zum 30.04.2020 in der ESG.<br /><br />Max. 8
  Personen<br /><br />Wir kaufen für den Abend ein.<br />Ihr lernt, bereitet
  zu, lasst euch <br />die Leckereien schmecken <br />und gebt uns dafür: <b
 r />10,-€ (Studierende; andere 20,-€).</p> <a href="https://esg-trier.de/ve
 ranstaltungskalender/eventeinzelheiten/4744/-/entfällt-kochkurs-in-der-esg?
 tmpl=component">This event was imported from: https://esg-trier.de/veransta
 ltungskalender/eventeinzelheiten/4744/-/entfällt-kochkurs-in-der-esg?tmpl=c
 omponent</a>DTSTAMP:20260420T210305
DTSTART;TZID=Europe/Berlin:20200511T183000
SEQUENCE:0
TRANSP:OPAQUE
END:VEVENT
END:VCALENDAR