BEGIN:VCALENDAR
VERSION:2.0
PRODID:-//jEvents 2.0 for Joomla//EN
CALSCALE:GREGORIAN
METHOD:PUBLISH
BEGIN:VTIMEZONE
TZID:Europe/Berlin
BEGIN:STANDARD
DTSTART:20191027T020000
RDATE:20200329T030000
TZOFFSETFROM:+0200
TZOFFSETTO:+0100
TZNAME:Europe/Berlin CET
END:STANDARD
BEGIN:STANDARD
DTSTART:20201025T020000
RDATE:20210328T030000
TZOFFSETFROM:+0200
TZOFFSETTO:+0100
TZNAME:Europe/Berlin CET
END:STANDARD
BEGIN:STANDARD
DTSTART:20211031T020000
RDATE:20220327T030000
TZOFFSETFROM:+0200
TZOFFSETTO:+0100
TZNAME:Europe/Berlin CET
END:STANDARD
BEGIN:STANDARD
DTSTART:20221030T020000
RDATE:20230326T030000
TZOFFSETFROM:+0200
TZOFFSETTO:+0100
TZNAME:Europe/Berlin CET
END:STANDARD
BEGIN:STANDARD
DTSTART:20231029T020000
RDATE:20240331T030000
TZOFFSETFROM:+0200
TZOFFSETTO:+0100
TZNAME:Europe/Berlin CET
END:STANDARD
BEGIN:STANDARD
DTSTART:20241027T020000
RDATE:20250330T030000
TZOFFSETFROM:+0200
TZOFFSETTO:+0100
TZNAME:Europe/Berlin CET
END:STANDARD
BEGIN:STANDARD
DTSTART:20251026T020000
RDATE:20260329T030000
TZOFFSETFROM:+0200
TZOFFSETTO:+0100
TZNAME:Europe/Berlin CET
END:STANDARD
BEGIN:STANDARD
DTSTART:20261025T020000
RDATE:20270328T030000
TZOFFSETFROM:+0200
TZOFFSETTO:+0100
TZNAME:Europe/Berlin CET
END:STANDARD
BEGIN:STANDARD
DTSTART:20271031T020000
RDATE:20280326T030000
TZOFFSETFROM:+0200
TZOFFSETTO:+0100
TZNAME:Europe/Berlin CET
END:STANDARD
BEGIN:DAYLIGHT
DTSTART:20190408T170000
RDATE:20191027T020000
TZOFFSETFROM:+0100
TZOFFSETTO:+0200
TZNAME:Europe/Berlin CEST
END:DAYLIGHT
BEGIN:DAYLIGHT
DTSTART:20200329T030000
RDATE:20201025T020000
TZOFFSETFROM:+0100
TZOFFSETTO:+0200
TZNAME:Europe/Berlin CEST
END:DAYLIGHT
BEGIN:DAYLIGHT
DTSTART:20210328T030000
RDATE:20211031T020000
TZOFFSETFROM:+0100
TZOFFSETTO:+0200
TZNAME:Europe/Berlin CEST
END:DAYLIGHT
BEGIN:DAYLIGHT
DTSTART:20220327T030000
RDATE:20221030T020000
TZOFFSETFROM:+0100
TZOFFSETTO:+0200
TZNAME:Europe/Berlin CEST
END:DAYLIGHT
BEGIN:DAYLIGHT
DTSTART:20230326T030000
RDATE:20231029T020000
TZOFFSETFROM:+0100
TZOFFSETTO:+0200
TZNAME:Europe/Berlin CEST
END:DAYLIGHT
BEGIN:DAYLIGHT
DTSTART:20240331T030000
RDATE:20241027T020000
TZOFFSETFROM:+0100
TZOFFSETTO:+0200
TZNAME:Europe/Berlin CEST
END:DAYLIGHT
BEGIN:DAYLIGHT
DTSTART:20250330T030000
RDATE:20251026T020000
TZOFFSETFROM:+0100
TZOFFSETTO:+0200
TZNAME:Europe/Berlin CEST
END:DAYLIGHT
BEGIN:DAYLIGHT
DTSTART:20260329T030000
RDATE:20261025T020000
TZOFFSETFROM:+0100
TZOFFSETTO:+0200
TZNAME:Europe/Berlin CEST
END:DAYLIGHT
BEGIN:DAYLIGHT
DTSTART:20270328T030000
RDATE:20271031T020000
TZOFFSETFROM:+0100
TZOFFSETTO:+0200
TZNAME:Europe/Berlin CEST
END:DAYLIGHT
END:VTIMEZONE
BEGIN:VEVENT
UID:18359f17b88f301b055f9ccad1e2f140
CATEGORIES:ESG
CREATED:19700101T010000
SUMMARY:ENTFÄLLT - Repair Cafe
URL;VALUE=URI:https://esg-trier.de/veranstaltungskalender/eventeinzelheiten/4735/-/entfäl
 lt-repair-cafe?tmpl=component
DESCRIPTION:In der ESG dreht sich seit 2013 einmal im Monat alles ums Reparieren, dabei
  warten reparaturbegabte Studierende auf neue Herausforderungen. Sie helfen
  kostenlos bei allen möglichen Reparaturen. Zudem sind verschiedene Werkzeu
 ge und Materialien vorhanden.\n\nBesucherInnen des Repair Cafés bringen ihr
 e defektenGegenstände von Zuhause mit. Toaster, Lampen, Föhne, \nSpielzeug,
  Geschirr... Die Menschen im Repair Café wissen fast immer eine Lösung. \n\
 nEin weiteres Repair Café findet begleitet von der LA 21 an jedem letzten S
 amstag im Monat im Mergener Hof statt.\n This event was imported from: http
 s://esg-trier.de/veranstaltungskalender/eventeinzelheiten/4735/-/entfällt-r
 epair-cafe?tmpl=component (https://esg-trier.de/veranstaltungskalender/even
 teinzelheiten/4735/-/entfällt-repair-cafe?tmpl=component)
X-ALT-DESC;FMTTYPE=text/html:<p>In der ESG dreht sich seit 2013 einmal im Monat alles ums Reparieren, da
 bei warten reparaturbegabte Studierende auf neue Herausforderungen. Sie hel
 fen kostenlos bei allen möglichen Reparaturen. Zudem sind verschiedene Werk
 zeuge und Materialien vorhanden.<br /><br />BesucherInnen des Repair Cafés 
 bringen ihre defektenGegenstände von Zuhause mit. Toaster, Lampen, Föhne, <
 br />Spielzeug, Geschirr... Die Menschen im Repair Café wissen fast immer e
 ine Lösung. <br /><br />Ein weiteres Repair Café findet begleitet von der L
 A 21 an jedem letzten Samstag im Monat im Mergener Hof statt.</p> <a href="
 https://esg-trier.de/veranstaltungskalender/eventeinzelheiten/4735/-/entfäl
 lt-repair-cafe?tmpl=component">This event was imported from: https://esg-tr
 ier.de/veranstaltungskalender/eventeinzelheiten/4735/-/entfällt-repair-cafe
 ?tmpl=component</a>DTSTAMP:20260420T234208
DTSTART;TZID=Europe/Berlin:20200408T170000
SEQUENCE:0
RRULE:FREQ=WEEKLY;COUNT=4;INTERVAL=5;BYDAY=WE
TRANSP:OPAQUE
END:VEVENT
BEGIN:VEVENT
UID:18359f17b88f301b055f9ccad1e2f140
CATEGORIES:ESG
CREATED:20200430T134615
SUMMARY:ENTFÄLLT - Repair Cafe
DESCRIPTION:In der ESG dreht sich seit 2013 einmal im Monat alles ums Reparieren, dabei
  warten reparaturbegabte Studierende auf neue Herausforderungen. Sie helfen
  kostenlos bei allen möglichen Reparaturen. Zudem sind verschiedene Werkzeu
 ge und Materialien vorhanden.\n\nBesucherInnen des Repair Cafés bringen ihr
 e defektenGegenstände von Zuhause mit. Toaster, Lampen, Föhne, \nSpielzeug,
  Geschirr... Die Menschen im Repair Café wissen fast immer eine Lösung. \n\
 nEin weiteres Repair Café findet begleitet von der LA 21 an jedem letzten S
 amstag im Monat im Mergener Hof statt.\n
X-ALT-DESC;FMTTYPE=text/html:<p>In der ESG dreht sich seit 2013 einmal im Monat alles ums Reparieren, da
 bei warten reparaturbegabte Studierende auf neue Herausforderungen. Sie hel
 fen kostenlos bei allen möglichen Reparaturen. Zudem sind verschiedene Werk
 zeuge und Materialien vorhanden.<br /><br />BesucherInnen des Repair Cafés 
 bringen ihre defektenGegenstände von Zuhause mit. Toaster, Lampen, Föhne, <
 br />Spielzeug, Geschirr... Die Menschen im Repair Café wissen fast immer e
 ine Lösung. <br /><br />Ein weiteres Repair Café findet begleitet von der L
 A 21 an jedem letzten Samstag im Monat im Mergener Hof statt.</p>
URL;VALUE=URI:https://esg-trier.de/veranstaltungskalender/eventeinzelheiten/4749/-/entfäl
 lt-repair-cafe?tmpl=component

DTSTAMP:20260420T234208
DTSTART;TZID=Europe/Berlin:20200610T170000
DTEND;TZID=Europe/Berlin:20200610T235959
RECURRENCE-ID;TZID=Europe/Berlin:20200617T170000
SEQUENCE:0
TRANSP:OPAQUE
END:VEVENT
BEGIN:VEVENT
UID:18359f17b88f301b055f9ccad1e2f140
CATEGORIES:ESG
CREATED:20200430T134615
SUMMARY:ENTFÄLLT - Repair Cafe
DESCRIPTION:In der ESG dreht sich seit 2013 einmal im Monat alles ums Reparieren, dabei
  warten reparaturbegabte Studierende auf neue Herausforderungen. Sie helfen
  kostenlos bei allen möglichen Reparaturen. Zudem sind verschiedene Werkzeu
 ge und Materialien vorhanden.\n\nBesucherInnen des Repair Cafés bringen ihr
 e defektenGegenstände von Zuhause mit. Toaster, Lampen, Föhne, \nSpielzeug,
  Geschirr... Die Menschen im Repair Café wissen fast immer eine Lösung. \n\
 nEin weiteres Repair Café findet begleitet von der LA 21 an jedem letzten S
 amstag im Monat im Mergener Hof statt.\n
X-ALT-DESC;FMTTYPE=text/html:<p>In der ESG dreht sich seit 2013 einmal im Monat alles ums Reparieren, da
 bei warten reparaturbegabte Studierende auf neue Herausforderungen. Sie hel
 fen kostenlos bei allen möglichen Reparaturen. Zudem sind verschiedene Werk
 zeuge und Materialien vorhanden.<br /><br />BesucherInnen des Repair Cafés 
 bringen ihre defektenGegenstände von Zuhause mit. Toaster, Lampen, Föhne, <
 br />Spielzeug, Geschirr... Die Menschen im Repair Café wissen fast immer e
 ine Lösung. <br /><br />Ein weiteres Repair Café findet begleitet von der L
 A 21 an jedem letzten Samstag im Monat im Mergener Hof statt.</p>
URL;VALUE=URI:https://esg-trier.de/veranstaltungskalender/eventeinzelheiten/4750/-/entfäl
 lt-repair-cafe?tmpl=component

DTSTAMP:20260420T234208
DTSTART;TZID=Europe/Berlin:20200708T170000
DTEND;TZID=Europe/Berlin:20200708T235959
RECURRENCE-ID;TZID=Europe/Berlin:20200722T170000
SEQUENCE:0
TRANSP:OPAQUE
END:VEVENT
END:VCALENDAR