BEGIN:VCALENDAR
VERSION:2.0
PRODID:-//jEvents 2.0 for Joomla//EN
CALSCALE:GREGORIAN
METHOD:PUBLISH
BEGIN:VTIMEZONE
TZID:Europe/Berlin
BEGIN:STANDARD
DTSTART:20191027T020000
RDATE:20200329T030000
TZOFFSETFROM:+0200
TZOFFSETTO:+0100
TZNAME:Europe/Berlin CET
END:STANDARD
BEGIN:STANDARD
DTSTART:20201025T020000
RDATE:20210328T030000
TZOFFSETFROM:+0200
TZOFFSETTO:+0100
TZNAME:Europe/Berlin CET
END:STANDARD
BEGIN:STANDARD
DTSTART:20211031T020000
RDATE:20220327T030000
TZOFFSETFROM:+0200
TZOFFSETTO:+0100
TZNAME:Europe/Berlin CET
END:STANDARD
BEGIN:STANDARD
DTSTART:20221030T020000
RDATE:20230326T030000
TZOFFSETFROM:+0200
TZOFFSETTO:+0100
TZNAME:Europe/Berlin CET
END:STANDARD
BEGIN:STANDARD
DTSTART:20231029T020000
RDATE:20240331T030000
TZOFFSETFROM:+0200
TZOFFSETTO:+0100
TZNAME:Europe/Berlin CET
END:STANDARD
BEGIN:STANDARD
DTSTART:20241027T020000
RDATE:20250330T030000
TZOFFSETFROM:+0200
TZOFFSETTO:+0100
TZNAME:Europe/Berlin CET
END:STANDARD
BEGIN:STANDARD
DTSTART:20251026T020000
RDATE:20260329T030000
TZOFFSETFROM:+0200
TZOFFSETTO:+0100
TZNAME:Europe/Berlin CET
END:STANDARD
BEGIN:STANDARD
DTSTART:20261025T020000
RDATE:20270328T030000
TZOFFSETFROM:+0200
TZOFFSETTO:+0100
TZNAME:Europe/Berlin CET
END:STANDARD
BEGIN:STANDARD
DTSTART:20271031T020000
RDATE:20280326T030000
TZOFFSETFROM:+0200
TZOFFSETTO:+0100
TZNAME:Europe/Berlin CET
END:STANDARD
BEGIN:DAYLIGHT
DTSTART:20190528T160000
RDATE:20191027T020000
TZOFFSETFROM:+0100
TZOFFSETTO:+0200
TZNAME:Europe/Berlin CEST
END:DAYLIGHT
BEGIN:DAYLIGHT
DTSTART:20200329T030000
RDATE:20201025T020000
TZOFFSETFROM:+0100
TZOFFSETTO:+0200
TZNAME:Europe/Berlin CEST
END:DAYLIGHT
BEGIN:DAYLIGHT
DTSTART:20210328T030000
RDATE:20211031T020000
TZOFFSETFROM:+0100
TZOFFSETTO:+0200
TZNAME:Europe/Berlin CEST
END:DAYLIGHT
BEGIN:DAYLIGHT
DTSTART:20220327T030000
RDATE:20221030T020000
TZOFFSETFROM:+0100
TZOFFSETTO:+0200
TZNAME:Europe/Berlin CEST
END:DAYLIGHT
BEGIN:DAYLIGHT
DTSTART:20230326T030000
RDATE:20231029T020000
TZOFFSETFROM:+0100
TZOFFSETTO:+0200
TZNAME:Europe/Berlin CEST
END:DAYLIGHT
BEGIN:DAYLIGHT
DTSTART:20240331T030000
RDATE:20241027T020000
TZOFFSETFROM:+0100
TZOFFSETTO:+0200
TZNAME:Europe/Berlin CEST
END:DAYLIGHT
BEGIN:DAYLIGHT
DTSTART:20250330T030000
RDATE:20251026T020000
TZOFFSETFROM:+0100
TZOFFSETTO:+0200
TZNAME:Europe/Berlin CEST
END:DAYLIGHT
BEGIN:DAYLIGHT
DTSTART:20260329T030000
RDATE:20261025T020000
TZOFFSETFROM:+0100
TZOFFSETTO:+0200
TZNAME:Europe/Berlin CEST
END:DAYLIGHT
BEGIN:DAYLIGHT
DTSTART:20270328T030000
RDATE:20271031T020000
TZOFFSETFROM:+0100
TZOFFSETTO:+0200
TZNAME:Europe/Berlin CEST
END:DAYLIGHT
END:VTIMEZONE
BEGIN:VEVENT
UID:ac84d82ec6fb786a8d0cf5c5d5b3ab2d
CATEGORIES:ESG
CREATED:20200430T143240
SUMMARY:ENTFÄLLT - ESG vs. KHG: Basketball
LOCATION:Basketballfeld der Universität Trier
URL;VALUE=URI:https://esg-trier.de/veranstaltungskalender/eventeinzelheiten/4757/-/entfäl
 lt-esg-vs-khg-basketball?tmpl=component
DESCRIPTION: Das Sportereignis: ESG vs. KHGGut. Die letzten Treffen verliefen suboptima
 l. Die knappen Niederlagen gegen die KHG waren ebenso unnötig wie unverstän
 dlich und geben auch den Spielverlauf nicht korrekt wieder. Doch was nützt 
 die Rückbetrachtung? Schauen wir lieber nach vorn!\nAm 28. Mai werden wir a
 b 16.00 Uhr gegen die KHG triumphieren. Keine Frage.  Das anschließende Mit
 einander hat den Zweck, die angesichts ihrer schweren Niederlage am Boden z
 erstörten katholischen Schwestern und Brüder wieder aufzurichten.  Über die
  gewählte Sportart, die ESG Trier verfügt über eine ganze Reihe von trainie
 rten und gestählten Sportlerinnen und Sportler, wird Euch unser Modellathle
 t  Jörg rechtzeitig informieren. Egal was kommt: Wir siegen. Notiert Euch d
 eshalb diesen Termin bereits jetzt.\n This event was imported from: https:/
 /esg-trier.de/veranstaltungskalender/eventeinzelheiten/4757/-/entfällt-esg-
 vs-khg-basketball?tmpl=component (https://esg-trier.de/veranstaltungskalend
 er/eventeinzelheiten/4757/-/entfällt-esg-vs-khg-basketball?tmpl=component)
X-ALT-DESC;FMTTYPE=text/html:<h1>&nbsp;Das Sportereignis: ESG vs. KHG</h1><p>Gut. Die letzten Treffen ve
 rliefen suboptimal. Die knappen Niederlagen gegen die KHG waren ebenso unnö
 tig wie unverständlich und geben auch den Spielverlauf nicht korrekt wieder
 . Doch was nützt die Rückbetrachtung? Schauen wir lieber nach vorn!</p><p>A
 m 28. Mai werden wir ab 16.00 Uhr gegen die KHG triumphieren. Keine Frage.&
 nbsp; Das anschließende Miteinander hat den Zweck, die angesichts ihrer sch
 weren Niederlage am Boden zerstörten katholischen Schwestern und Brüder wie
 der aufzurichten.&nbsp; Über die gewählte Sportart, die ESG Trier verfügt ü
 ber eine ganze Reihe von trainierten und gestählten Sportlerinnen und Sport
 ler, wird Euch unser Modellathlet&nbsp; Jörg rechtzeitig informieren. Egal 
 was kommt: Wir siegen. Notiert Euch deshalb diesen Termin bereits jetzt.</p
 > <a href="https://esg-trier.de/veranstaltungskalender/eventeinzelheiten/47
 57/-/entfällt-esg-vs-khg-basketball?tmpl=component">This event was imported
  from: https://esg-trier.de/veranstaltungskalender/eventeinzelheiten/4757/-
 /entfällt-esg-vs-khg-basketball?tmpl=component</a>DTSTAMP:20260425T153033
DTSTART;TZID=Europe/Berlin:20200528T160000
SEQUENCE:0
TRANSP:OPAQUE
END:VEVENT
END:VCALENDAR