BEGIN:VCALENDAR
VERSION:2.0
PRODID:-//jEvents 2.0 for Joomla//EN
CALSCALE:GREGORIAN
METHOD:PUBLISH
BEGIN:VTIMEZONE
TZID:Europe/Berlin
BEGIN:STANDARD
DTSTART:20191027T020000
RDATE:20200329T030000
TZOFFSETFROM:+0200
TZOFFSETTO:+0100
TZNAME:Europe/Berlin CET
END:STANDARD
BEGIN:STANDARD
DTSTART:20201025T020000
RDATE:20210328T030000
TZOFFSETFROM:+0200
TZOFFSETTO:+0100
TZNAME:Europe/Berlin CET
END:STANDARD
BEGIN:STANDARD
DTSTART:20211031T020000
RDATE:20220327T030000
TZOFFSETFROM:+0200
TZOFFSETTO:+0100
TZNAME:Europe/Berlin CET
END:STANDARD
BEGIN:STANDARD
DTSTART:20221030T020000
RDATE:20230326T030000
TZOFFSETFROM:+0200
TZOFFSETTO:+0100
TZNAME:Europe/Berlin CET
END:STANDARD
BEGIN:STANDARD
DTSTART:20231029T020000
RDATE:20240331T030000
TZOFFSETFROM:+0200
TZOFFSETTO:+0100
TZNAME:Europe/Berlin CET
END:STANDARD
BEGIN:STANDARD
DTSTART:20241027T020000
RDATE:20250330T030000
TZOFFSETFROM:+0200
TZOFFSETTO:+0100
TZNAME:Europe/Berlin CET
END:STANDARD
BEGIN:STANDARD
DTSTART:20251026T020000
RDATE:20260329T030000
TZOFFSETFROM:+0200
TZOFFSETTO:+0100
TZNAME:Europe/Berlin CET
END:STANDARD
BEGIN:STANDARD
DTSTART:20261025T020000
RDATE:20270328T030000
TZOFFSETFROM:+0200
TZOFFSETTO:+0100
TZNAME:Europe/Berlin CET
END:STANDARD
BEGIN:STANDARD
DTSTART:20271031T020000
RDATE:20280326T030000
TZOFFSETFROM:+0200
TZOFFSETTO:+0100
TZNAME:Europe/Berlin CET
END:STANDARD
BEGIN:DAYLIGHT
DTSTART:20190625T140000
RDATE:20191027T020000
TZOFFSETFROM:+0100
TZOFFSETTO:+0200
TZNAME:Europe/Berlin CEST
END:DAYLIGHT
BEGIN:DAYLIGHT
DTSTART:20200329T030000
RDATE:20201025T020000
TZOFFSETFROM:+0100
TZOFFSETTO:+0200
TZNAME:Europe/Berlin CEST
END:DAYLIGHT
BEGIN:DAYLIGHT
DTSTART:20210328T030000
RDATE:20211031T020000
TZOFFSETFROM:+0100
TZOFFSETTO:+0200
TZNAME:Europe/Berlin CEST
END:DAYLIGHT
BEGIN:DAYLIGHT
DTSTART:20220327T030000
RDATE:20221030T020000
TZOFFSETFROM:+0100
TZOFFSETTO:+0200
TZNAME:Europe/Berlin CEST
END:DAYLIGHT
BEGIN:DAYLIGHT
DTSTART:20230326T030000
RDATE:20231029T020000
TZOFFSETFROM:+0100
TZOFFSETTO:+0200
TZNAME:Europe/Berlin CEST
END:DAYLIGHT
BEGIN:DAYLIGHT
DTSTART:20240331T030000
RDATE:20241027T020000
TZOFFSETFROM:+0100
TZOFFSETTO:+0200
TZNAME:Europe/Berlin CEST
END:DAYLIGHT
BEGIN:DAYLIGHT
DTSTART:20250330T030000
RDATE:20251026T020000
TZOFFSETFROM:+0100
TZOFFSETTO:+0200
TZNAME:Europe/Berlin CEST
END:DAYLIGHT
BEGIN:DAYLIGHT
DTSTART:20260329T030000
RDATE:20261025T020000
TZOFFSETFROM:+0100
TZOFFSETTO:+0200
TZNAME:Europe/Berlin CEST
END:DAYLIGHT
BEGIN:DAYLIGHT
DTSTART:20270328T030000
RDATE:20271031T020000
TZOFFSETFROM:+0100
TZOFFSETTO:+0200
TZNAME:Europe/Berlin CEST
END:DAYLIGHT
END:VTIMEZONE
BEGIN:VEVENT
UID:3fd0db814c2bb0970007c7292ddc6735
CATEGORIES:ESG
CREATED:20200430T145420
SUMMARY:ENTFÄLLT - Workshop Freies Sprechen
LOCATION:Versammlungsraum
URL;VALUE=URI:https://esg-trier.de/veranstaltungskalender/eventeinzelheiten/4764/-/entfäl
 lt-workshop-freies-sprechen?tmpl=component
DESCRIPTION:Ref. Prof. Dr. Andreas Mühling\nWer kennt die Situation nicht: Da stehen ei
 n Kurzvortrag, die Präsentation, das Referat  an – und schnell wird vom Bla
 tt abgelesen.  Sterbenslangweilig. Das vor sich hindämmernde Auditorium ist
  hierfür der verdiente Lohn.\nDoch es geht auch anders. Neben einer guten i
 nhaltlichen Vorbereitung (!) können auch Methoden angewendet werden, die ei
 nen Kurzvortrag gelingen lassen. Und dies ist dann meist der Fall, wenn fre
 i gesprochen wird. \nNatürlich können in einem dreistündigen Workshop keine
  Wunder vollbracht werden. Aber Anregungen, praktische Übungen und Tipps zu
 m Weiterarbeiten gibt es sicher. Damit wir möglichst effektiv Theorie und P
 raxis miteinander einüben können, ist die Teilnehmerzahl auf sechs Personen
  beschränkt. Eine rasche Anmeldung empfiehlt sich daher!\n This event was i
 mported from: https://esg-trier.de/veranstaltungskalender/eventeinzelheiten
 /4764/-/entfällt-workshop-freies-sprechen?tmpl=component (https://esg-trier
 .de/veranstaltungskalender/eventeinzelheiten/4764/-/entfällt-workshop-freie
 s-sprechen?tmpl=component)
X-ALT-DESC;FMTTYPE=text/html:<p>Ref. Prof. Dr. Andreas Mühling</p><p>Wer kennt die Situation nicht: Da s
 tehen ein Kurzvortrag, die Präsentation, das Referat&nbsp; an – und schnell
  wird vom Blatt abgelesen.&nbsp; Sterbenslangweilig. Das vor sich hindämmer
 nde Auditorium ist hierfür der verdiente Lohn.<br />Doch es geht auch ander
 s. Neben einer guten inhaltlichen Vorbereitung (!) können auch Methoden ang
 ewendet werden, die einen Kurzvortrag gelingen lassen. Und dies ist dann me
 ist der Fall, wenn frei gesprochen wird. <br />Natürlich können in einem dr
 eistündigen Workshop keine Wunder vollbracht werden. Aber Anregungen, prakt
 ische Übungen und Tipps zum Weiterarbeiten gibt es sicher. Damit wir möglic
 hst effektiv Theorie und Praxis miteinander einüben können, ist die Teilneh
 merzahl auf sechs Personen beschränkt. Eine rasche Anmeldung empfiehlt sich
  daher!</p> <a href="https://esg-trier.de/veranstaltungskalender/eventeinze
 lheiten/4764/-/entfällt-workshop-freies-sprechen?tmpl=component">This event
  was imported from: https://esg-trier.de/veranstaltungskalender/eventeinzel
 heiten/4764/-/entfällt-workshop-freies-sprechen?tmpl=component</a>DTSTAMP:20260422T181041
DTSTART;TZID=Europe/Berlin:20200625T140000
DTEND;TZID=Europe/Berlin:20200625T160000
SEQUENCE:0
TRANSP:OPAQUE
END:VEVENT
END:VCALENDAR