BEGIN:VCALENDAR
VERSION:2.0
PRODID:-//jEvents 2.0 for Joomla//EN
CALSCALE:GREGORIAN
METHOD:PUBLISH
BEGIN:VTIMEZONE
TZID:Europe/Berlin
BEGIN:STANDARD
DTSTART:20191027T020000
RDATE:20200329T030000
TZOFFSETFROM:+0200
TZOFFSETTO:+0100
TZNAME:Europe/Berlin CET
END:STANDARD
BEGIN:STANDARD
DTSTART:20201025T020000
RDATE:20210328T030000
TZOFFSETFROM:+0200
TZOFFSETTO:+0100
TZNAME:Europe/Berlin CET
END:STANDARD
BEGIN:STANDARD
DTSTART:20211031T020000
RDATE:20220327T030000
TZOFFSETFROM:+0200
TZOFFSETTO:+0100
TZNAME:Europe/Berlin CET
END:STANDARD
BEGIN:STANDARD
DTSTART:20221030T020000
RDATE:20230326T030000
TZOFFSETFROM:+0200
TZOFFSETTO:+0100
TZNAME:Europe/Berlin CET
END:STANDARD
BEGIN:STANDARD
DTSTART:20231029T020000
RDATE:20240331T030000
TZOFFSETFROM:+0200
TZOFFSETTO:+0100
TZNAME:Europe/Berlin CET
END:STANDARD
BEGIN:STANDARD
DTSTART:20241027T020000
RDATE:20250330T030000
TZOFFSETFROM:+0200
TZOFFSETTO:+0100
TZNAME:Europe/Berlin CET
END:STANDARD
BEGIN:STANDARD
DTSTART:20251026T020000
RDATE:20260329T030000
TZOFFSETFROM:+0200
TZOFFSETTO:+0100
TZNAME:Europe/Berlin CET
END:STANDARD
BEGIN:STANDARD
DTSTART:20261025T020000
RDATE:20270328T030000
TZOFFSETFROM:+0200
TZOFFSETTO:+0100
TZNAME:Europe/Berlin CET
END:STANDARD
BEGIN:STANDARD
DTSTART:20271031T020000
RDATE:20280326T030000
TZOFFSETFROM:+0200
TZOFFSETTO:+0100
TZNAME:Europe/Berlin CET
END:STANDARD
BEGIN:DAYLIGHT
DTSTART:20190701T153000
RDATE:20191027T020000
TZOFFSETFROM:+0100
TZOFFSETTO:+0200
TZNAME:Europe/Berlin CEST
END:DAYLIGHT
BEGIN:DAYLIGHT
DTSTART:20200329T030000
RDATE:20201025T020000
TZOFFSETFROM:+0100
TZOFFSETTO:+0200
TZNAME:Europe/Berlin CEST
END:DAYLIGHT
BEGIN:DAYLIGHT
DTSTART:20210328T030000
RDATE:20211031T020000
TZOFFSETFROM:+0100
TZOFFSETTO:+0200
TZNAME:Europe/Berlin CEST
END:DAYLIGHT
BEGIN:DAYLIGHT
DTSTART:20220327T030000
RDATE:20221030T020000
TZOFFSETFROM:+0100
TZOFFSETTO:+0200
TZNAME:Europe/Berlin CEST
END:DAYLIGHT
BEGIN:DAYLIGHT
DTSTART:20230326T030000
RDATE:20231029T020000
TZOFFSETFROM:+0100
TZOFFSETTO:+0200
TZNAME:Europe/Berlin CEST
END:DAYLIGHT
BEGIN:DAYLIGHT
DTSTART:20240331T030000
RDATE:20241027T020000
TZOFFSETFROM:+0100
TZOFFSETTO:+0200
TZNAME:Europe/Berlin CEST
END:DAYLIGHT
BEGIN:DAYLIGHT
DTSTART:20250330T030000
RDATE:20251026T020000
TZOFFSETFROM:+0100
TZOFFSETTO:+0200
TZNAME:Europe/Berlin CEST
END:DAYLIGHT
BEGIN:DAYLIGHT
DTSTART:20260329T030000
RDATE:20261025T020000
TZOFFSETFROM:+0100
TZOFFSETTO:+0200
TZNAME:Europe/Berlin CEST
END:DAYLIGHT
BEGIN:DAYLIGHT
DTSTART:20270328T030000
RDATE:20271031T020000
TZOFFSETFROM:+0100
TZOFFSETTO:+0200
TZNAME:Europe/Berlin CEST
END:DAYLIGHT
END:VTIMEZONE
BEGIN:VEVENT
UID:f4fc59bf9ceb49c6eb86c9f35ef90565
CATEGORIES:ESG
CREATED:20200430T145943
SUMMARY:ENTFÄLLT - Workshop "Losing my religion? - Pop-Musik als Herausforderung und Türöffner für Religion_en"
LOCATION:Versammlungsraum
URL;VALUE=URI:https://esg-trier.de/veranstaltungskalender/eventeinzelheiten/4766/-/entfäl
 lt-workshop-losing-my-religion-pop-musik-als-herausforderung-und-türöffner-
 für-religion_en?tmpl=component
DESCRIPTION:<p>Referent: Lenard Roseland-Geffert(Erwachsenenbildner, Supervisor; ESGler
 )</p><p>Anhand von ausgewählten Liedbeispielen wollen wir in dieser Veranst
 altung gemeinsam der Frage nachgehen, inwieweit Religion Pop-Musik als Spra
 chrohr nutzen kann. Dazu werden wir vor allem anhand konkreter Liedtexte na
 ch religiösen Bezügen suchen. Darüber hinaus steht die Frage nach den Einsa
 tzmöglichkeiten von Musik in unterschiedlichen religiösen Kontexten im Foku
 s. Abrunden soll den Workshop ein Blick in den Fachdiskurs, der theologisch
  wie auch liturgisch aktuell hitzig über diese Frage geführt wird.<br /><br
  />Die Veranstaltung will einen Impuls zu Austausch und Diskussion setzen.<
 /p> <a href="https://esg-trier.de/veranstaltungskalender/eventeinzelheiten/
 4766/-/entfällt-workshop-losing-my-religion-pop-musik-als-herausforderung-u
 nd-türöffner-für-religion_en?tmpl=component">This event was imported from: 
 https://esg-trier.de/veranstaltungskalender/eventeinzelheiten/4766/-/entfäl
 lt-workshop-losing-my-religion-pop-musik-als-herausforderung-und-türöffner-
 für-religion_en?tmpl=component</a>DTSTAMP:20260423T005116
DTSTART;TZID=Europe/Berlin:20200701T153000
DTEND;TZID=Europe/Berlin:20200701T173000
SEQUENCE:0
TRANSP:OPAQUE
END:VEVENT
END:VCALENDAR