BEGIN:VCALENDAR
VERSION:2.0
PRODID:-//jEvents 2.0 for Joomla//EN
CALSCALE:GREGORIAN
METHOD:PUBLISH
BEGIN:VTIMEZONE
TZID:Europe/Berlin
BEGIN:STANDARD
DTSTART:20191027T020000
RDATE:20200329T030000
TZOFFSETFROM:+0200
TZOFFSETTO:+0100
TZNAME:Europe/Berlin CET
END:STANDARD
BEGIN:STANDARD
DTSTART:20201025T020000
RDATE:20210328T030000
TZOFFSETFROM:+0200
TZOFFSETTO:+0100
TZNAME:Europe/Berlin CET
END:STANDARD
BEGIN:STANDARD
DTSTART:20211031T020000
RDATE:20220327T030000
TZOFFSETFROM:+0200
TZOFFSETTO:+0100
TZNAME:Europe/Berlin CET
END:STANDARD
BEGIN:STANDARD
DTSTART:20221030T020000
RDATE:20230326T030000
TZOFFSETFROM:+0200
TZOFFSETTO:+0100
TZNAME:Europe/Berlin CET
END:STANDARD
BEGIN:STANDARD
DTSTART:20231029T020000
RDATE:20240331T030000
TZOFFSETFROM:+0200
TZOFFSETTO:+0100
TZNAME:Europe/Berlin CET
END:STANDARD
BEGIN:STANDARD
DTSTART:20241027T020000
RDATE:20250330T030000
TZOFFSETFROM:+0200
TZOFFSETTO:+0100
TZNAME:Europe/Berlin CET
END:STANDARD
BEGIN:STANDARD
DTSTART:20251026T020000
RDATE:20260329T030000
TZOFFSETFROM:+0200
TZOFFSETTO:+0100
TZNAME:Europe/Berlin CET
END:STANDARD
BEGIN:STANDARD
DTSTART:20261025T020000
RDATE:20270328T030000
TZOFFSETFROM:+0200
TZOFFSETTO:+0100
TZNAME:Europe/Berlin CET
END:STANDARD
BEGIN:STANDARD
DTSTART:20271031T020000
RDATE:20280326T030000
TZOFFSETFROM:+0200
TZOFFSETTO:+0100
TZNAME:Europe/Berlin CET
END:STANDARD
BEGIN:DAYLIGHT
DTSTART:20190707T181500
RDATE:20191027T020000
TZOFFSETFROM:+0100
TZOFFSETTO:+0200
TZNAME:Europe/Berlin CEST
END:DAYLIGHT
BEGIN:DAYLIGHT
DTSTART:20200329T030000
RDATE:20201025T020000
TZOFFSETFROM:+0100
TZOFFSETTO:+0200
TZNAME:Europe/Berlin CEST
END:DAYLIGHT
BEGIN:DAYLIGHT
DTSTART:20210328T030000
RDATE:20211031T020000
TZOFFSETFROM:+0100
TZOFFSETTO:+0200
TZNAME:Europe/Berlin CEST
END:DAYLIGHT
BEGIN:DAYLIGHT
DTSTART:20220327T030000
RDATE:20221030T020000
TZOFFSETFROM:+0100
TZOFFSETTO:+0200
TZNAME:Europe/Berlin CEST
END:DAYLIGHT
BEGIN:DAYLIGHT
DTSTART:20230326T030000
RDATE:20231029T020000
TZOFFSETFROM:+0100
TZOFFSETTO:+0200
TZNAME:Europe/Berlin CEST
END:DAYLIGHT
BEGIN:DAYLIGHT
DTSTART:20240331T030000
RDATE:20241027T020000
TZOFFSETFROM:+0100
TZOFFSETTO:+0200
TZNAME:Europe/Berlin CEST
END:DAYLIGHT
BEGIN:DAYLIGHT
DTSTART:20250330T030000
RDATE:20251026T020000
TZOFFSETFROM:+0100
TZOFFSETTO:+0200
TZNAME:Europe/Berlin CEST
END:DAYLIGHT
BEGIN:DAYLIGHT
DTSTART:20260329T030000
RDATE:20261025T020000
TZOFFSETFROM:+0100
TZOFFSETTO:+0200
TZNAME:Europe/Berlin CEST
END:DAYLIGHT
BEGIN:DAYLIGHT
DTSTART:20270328T030000
RDATE:20271031T020000
TZOFFSETFROM:+0100
TZOFFSETTO:+0200
TZNAME:Europe/Berlin CEST
END:DAYLIGHT
END:VTIMEZONE
BEGIN:VEVENT
UID:c06370c9cca8f49723a2a1f34d3c0e58
CATEGORIES:ESG
CREATED:20200430T150914
SUMMARY:ENTFÄLLT - After Work Wine Tasting
LOCATION:Clubraum
URL;VALUE=URI:https://esg-trier.de/veranstaltungskalender/eventeinzelheiten/4769/-/entfäl
 lt-after-work-wine-tasting?tmpl=component
DESCRIPTION:Heute:      Der einzig wahre Sommerwein - Rivaner\n \nSehr, sehr schön, die
 ses AWWT. Leute kommen für eine  Stunde zusammen, probieren zwei  verschied
 ene  Vertreter einer Rebsorte, kommen darüber ins Gespräch und freuen sich,
  wie verschieden Weine doch sein können.  Hier liegt preiswerte Qualität zu
  freundlichen Preisen im Glas! Und nach einer Stunde ist alles vorbei; wer 
 möchte, kann natürlich auch gerne länger bleiben.\n This event was imported
  from: https://esg-trier.de/veranstaltungskalender/eventeinzelheiten/4769/-
 /entfällt-after-work-wine-tasting?tmpl=component (https://esg-trier.de/vera
 nstaltungskalender/eventeinzelheiten/4769/-/entfällt-after-work-wine-tastin
 g?tmpl=component)
X-ALT-DESC;FMTTYPE=text/html:<p>Heute: &nbsp;&nbsp; &nbsp; Der einzig wahre Sommerwein - Rivaner</p><p>&
 nbsp;</p><p>Sehr, sehr schön, dieses AWWT. Leute kommen für eine&nbsp; Stun
 de zusammen, probieren zwei&nbsp; verschiedene&nbsp; Vertreter einer Rebsor
 te, kommen darüber ins Gespräch und freuen sich, wie verschieden Weine doch
  sein können.&nbsp; Hier liegt preiswerte Qualität zu freundlichen Preisen 
 im Glas! Und nach einer Stunde ist alles vorbei; wer möchte, kann natürlich
  auch gerne länger bleiben.</p> <a href="https://esg-trier.de/veranstaltung
 skalender/eventeinzelheiten/4769/-/entfällt-after-work-wine-tasting?tmpl=co
 mponent">This event was imported from: https://esg-trier.de/veranstaltungsk
 alender/eventeinzelheiten/4769/-/entfällt-after-work-wine-tasting?tmpl=comp
 onent</a>DTSTAMP:20260424T154120
DTSTART;TZID=Europe/Berlin:20200707T181500
DTEND;TZID=Europe/Berlin:20200707T190000
SEQUENCE:0
TRANSP:OPAQUE
END:VEVENT
END:VCALENDAR