BEGIN:VCALENDAR
VERSION:2.0
PRODID:-//jEvents 2.0 for Joomla//EN
CALSCALE:GREGORIAN
METHOD:PUBLISH
BEGIN:VTIMEZONE
TZID:Europe/Berlin
BEGIN:STANDARD
DTSTART:20191027T020000
RDATE:20200329T030000
TZOFFSETFROM:+0200
TZOFFSETTO:+0100
TZNAME:Europe/Berlin CET
END:STANDARD
BEGIN:STANDARD
DTSTART:20201025T020000
RDATE:20210328T030000
TZOFFSETFROM:+0200
TZOFFSETTO:+0100
TZNAME:Europe/Berlin CET
END:STANDARD
BEGIN:STANDARD
DTSTART:20211031T020000
RDATE:20220327T030000
TZOFFSETFROM:+0200
TZOFFSETTO:+0100
TZNAME:Europe/Berlin CET
END:STANDARD
BEGIN:STANDARD
DTSTART:20221030T020000
RDATE:20230326T030000
TZOFFSETFROM:+0200
TZOFFSETTO:+0100
TZNAME:Europe/Berlin CET
END:STANDARD
BEGIN:STANDARD
DTSTART:20231029T020000
RDATE:20240331T030000
TZOFFSETFROM:+0200
TZOFFSETTO:+0100
TZNAME:Europe/Berlin CET
END:STANDARD
BEGIN:STANDARD
DTSTART:20241027T020000
RDATE:20250330T030000
TZOFFSETFROM:+0200
TZOFFSETTO:+0100
TZNAME:Europe/Berlin CET
END:STANDARD
BEGIN:STANDARD
DTSTART:20251026T020000
RDATE:20260329T030000
TZOFFSETFROM:+0200
TZOFFSETTO:+0100
TZNAME:Europe/Berlin CET
END:STANDARD
BEGIN:STANDARD
DTSTART:20261025T020000
RDATE:20270328T030000
TZOFFSETFROM:+0200
TZOFFSETTO:+0100
TZNAME:Europe/Berlin CET
END:STANDARD
BEGIN:STANDARD
DTSTART:20271031T020000
RDATE:20280326T030000
TZOFFSETFROM:+0200
TZOFFSETTO:+0100
TZNAME:Europe/Berlin CET
END:STANDARD
BEGIN:DAYLIGHT
DTSTART:20190716T190000
RDATE:20191027T020000
TZOFFSETFROM:+0100
TZOFFSETTO:+0200
TZNAME:Europe/Berlin CEST
END:DAYLIGHT
BEGIN:DAYLIGHT
DTSTART:20200329T030000
RDATE:20201025T020000
TZOFFSETFROM:+0100
TZOFFSETTO:+0200
TZNAME:Europe/Berlin CEST
END:DAYLIGHT
BEGIN:DAYLIGHT
DTSTART:20210328T030000
RDATE:20211031T020000
TZOFFSETFROM:+0100
TZOFFSETTO:+0200
TZNAME:Europe/Berlin CEST
END:DAYLIGHT
BEGIN:DAYLIGHT
DTSTART:20220327T030000
RDATE:20221030T020000
TZOFFSETFROM:+0100
TZOFFSETTO:+0200
TZNAME:Europe/Berlin CEST
END:DAYLIGHT
BEGIN:DAYLIGHT
DTSTART:20230326T030000
RDATE:20231029T020000
TZOFFSETFROM:+0100
TZOFFSETTO:+0200
TZNAME:Europe/Berlin CEST
END:DAYLIGHT
BEGIN:DAYLIGHT
DTSTART:20240331T030000
RDATE:20241027T020000
TZOFFSETFROM:+0100
TZOFFSETTO:+0200
TZNAME:Europe/Berlin CEST
END:DAYLIGHT
BEGIN:DAYLIGHT
DTSTART:20250330T030000
RDATE:20251026T020000
TZOFFSETFROM:+0100
TZOFFSETTO:+0200
TZNAME:Europe/Berlin CEST
END:DAYLIGHT
BEGIN:DAYLIGHT
DTSTART:20260329T030000
RDATE:20261025T020000
TZOFFSETFROM:+0100
TZOFFSETTO:+0200
TZNAME:Europe/Berlin CEST
END:DAYLIGHT
BEGIN:DAYLIGHT
DTSTART:20270328T030000
RDATE:20271031T020000
TZOFFSETFROM:+0100
TZOFFSETTO:+0200
TZNAME:Europe/Berlin CEST
END:DAYLIGHT
END:VTIMEZONE
BEGIN:VEVENT
UID:2665b6fa984e8239ac7fb585b67efc95
CATEGORIES:ESG
CREATED:20200430T151346
SUMMARY:ENTFÄLLT - Abschlussabend
URL;VALUE=URI:https://esg-trier.de/veranstaltungskalender/eventeinzelheiten/4771/-/entfäl
 lt-abschlussabend?tmpl=component
DESCRIPTION:Der fulminante Schlusspunkt am Ende eines Semesters! Diesmal am 16. Juli ab
  19.00 Uhr in der ESG. Direkt nach der Verleihung des „Goldenen Ei“.  Wir g
 leiten also von den  Begegnungen und Gesprächen bei Wein und Brot über die 
 Andacht  in den Semesterabschlussabend hinein.  \nHier tauschen wir uns dar
 über aus, was gut lief und was nicht. Entwerfen neue Ideen und planen das k
 ommende Semester.   Und dann: das übliche ESG-Abschlussessen! Ganz wie es u
 nserem Stil entspricht.  Begeisternde Speisen, tolle Weine, unvergessliche 
 Begegnungen. Lasst Euch überraschen!\n This event was imported from: https:
 //esg-trier.de/veranstaltungskalender/eventeinzelheiten/4771/-/entfällt-abs
 chlussabend?tmpl=component
X-ALT-DESC;FMTTYPE=text/html:<p>Der fulminante Schlusspunkt am Ende eines Semesters! Diesmal am 16. Juli
  ab 19.00 Uhr in der ESG. Direkt nach der Verleihung des „Goldenen Ei“.&nbs
 p; Wir gleiten also von den&nbsp; Begegnungen und Gesprächen bei Wein und B
 rot über die Andacht&nbsp; in den Semesterabschlussabend hinein.&nbsp; <br 
 />Hier tauschen wir uns darüber aus, was gut lief und was nicht. Entwerfen 
 neue Ideen und planen das kommende Semester.&nbsp;&nbsp; Und dann: das übli
 che ESG-Abschlussessen! Ganz wie es unserem Stil entspricht.&nbsp; Begeiste
 rnde Speisen, tolle Weine, unvergessliche Begegnungen. Lasst Euch überrasch
 en!</p> <a href="https://esg-trier.de/veranstaltungskalender/eventeinzelhei
 ten/4771/-/entfällt-abschlussabend?tmpl=component">This event was imported 
 from: https://esg-trier.de/veranstaltungskalender/eventeinzelheiten/4771/-/
 entfällt-abschlussabend?tmpl=component</a>DTSTAMP:20260422T164555
DTSTART;TZID=Europe/Berlin:20200716T190000
SEQUENCE:0
TRANSP:OPAQUE
END:VEVENT
END:VCALENDAR