BEGIN:VCALENDAR
VERSION:2.0
PRODID:-//jEvents 2.0 for Joomla//EN
CALSCALE:GREGORIAN
METHOD:PUBLISH
BEGIN:VTIMEZONE
TZID:Europe/Berlin
BEGIN:STANDARD
DTSTART:20201129T183000
RDATE:20210328T030000
TZOFFSETFROM:+0200
TZOFFSETTO:+0100
TZNAME:Europe/Berlin CET
END:STANDARD
BEGIN:STANDARD
DTSTART:20211031T020000
RDATE:20220327T030000
TZOFFSETFROM:+0200
TZOFFSETTO:+0100
TZNAME:Europe/Berlin CET
END:STANDARD
BEGIN:STANDARD
DTSTART:20221030T020000
RDATE:20230326T030000
TZOFFSETFROM:+0200
TZOFFSETTO:+0100
TZNAME:Europe/Berlin CET
END:STANDARD
BEGIN:STANDARD
DTSTART:20231029T020000
RDATE:20240331T030000
TZOFFSETFROM:+0200
TZOFFSETTO:+0100
TZNAME:Europe/Berlin CET
END:STANDARD
BEGIN:STANDARD
DTSTART:20241027T020000
RDATE:20250330T030000
TZOFFSETFROM:+0200
TZOFFSETTO:+0100
TZNAME:Europe/Berlin CET
END:STANDARD
BEGIN:STANDARD
DTSTART:20251026T020000
RDATE:20260329T030000
TZOFFSETFROM:+0200
TZOFFSETTO:+0100
TZNAME:Europe/Berlin CET
END:STANDARD
BEGIN:STANDARD
DTSTART:20261025T020000
RDATE:20270328T030000
TZOFFSETFROM:+0200
TZOFFSETTO:+0100
TZNAME:Europe/Berlin CET
END:STANDARD
BEGIN:STANDARD
DTSTART:20271031T020000
RDATE:20280326T030000
TZOFFSETFROM:+0200
TZOFFSETTO:+0100
TZNAME:Europe/Berlin CET
END:STANDARD
BEGIN:DAYLIGHT
DTSTART:20210328T030000
RDATE:20211031T020000
TZOFFSETFROM:+0100
TZOFFSETTO:+0200
TZNAME:Europe/Berlin CEST
END:DAYLIGHT
BEGIN:DAYLIGHT
DTSTART:20220327T030000
RDATE:20221030T020000
TZOFFSETFROM:+0100
TZOFFSETTO:+0200
TZNAME:Europe/Berlin CEST
END:DAYLIGHT
BEGIN:DAYLIGHT
DTSTART:20230326T030000
RDATE:20231029T020000
TZOFFSETFROM:+0100
TZOFFSETTO:+0200
TZNAME:Europe/Berlin CEST
END:DAYLIGHT
BEGIN:DAYLIGHT
DTSTART:20240331T030000
RDATE:20241027T020000
TZOFFSETFROM:+0100
TZOFFSETTO:+0200
TZNAME:Europe/Berlin CEST
END:DAYLIGHT
BEGIN:DAYLIGHT
DTSTART:20250330T030000
RDATE:20251026T020000
TZOFFSETFROM:+0100
TZOFFSETTO:+0200
TZNAME:Europe/Berlin CEST
END:DAYLIGHT
BEGIN:DAYLIGHT
DTSTART:20260329T030000
RDATE:20261025T020000
TZOFFSETFROM:+0100
TZOFFSETTO:+0200
TZNAME:Europe/Berlin CEST
END:DAYLIGHT
BEGIN:DAYLIGHT
DTSTART:20270328T030000
RDATE:20271031T020000
TZOFFSETFROM:+0100
TZOFFSETTO:+0200
TZNAME:Europe/Berlin CEST
END:DAYLIGHT
END:VTIMEZONE
BEGIN:VEVENT
UID:efbb0942daaa0293697036174f158552
CATEGORIES:ESG
CREATED:20211026T144631
SUMMARY:Philosophisches Café: Leid und Übel - Herausforderungen für Glaube und Philosophie
URL;VALUE=URI:https://esg-trier.de/veranstaltungskalender/eventeinzelheiten/5427/-/philos
 ophisches-café-leid-und-übel-herausforderungen-für-glaube-und-philosophie?t
 mpl=component
DESCRIPTION:"Leid und Übel - Herausforderungen für Glaube und Philosophie"\nDie Erfahru
 ng von Leid ist allgegenwärtig, möglicherweise sogar überwiegend im Zeitalt
 er globaler Kommunikation und Information. \nAn einer Antwort auf die Frage
  nach dem Ursprung sowie Sinn des rätselhaften Übels versuchen sich seit je
 her Religionen, Mythologien, politische Ideologien und mittlerweile auch Wi
 ssenschaften. \nDie in ihrem Selbstverständnis nach den letzten Prinzipien 
 und Gründen fragende Philosophie behandelt die Problematik der Annahme eine
 s allmächtigen Gottes angesichts teilweise monströser Dimensionen der Leide
 rfahrung unter dem Kunstwort ‚Theodizee‘. \n\nAus den mannigfaltigen und va
 riantenreichen Entwürfen bzw. Positionen an dieser Schnittstelle zwischen T
 heologie und Philosophie sollen im Wintercafé ausgewählte Textauszüge von d
 er Antike bis zur Postmoderne vorgestellt und gemeinsam analysiert werden.\
 nGesprächsleiter: Dipl.-Theol. Christian Höchel M.A.\n \nTermine (jeweils 1
 8:30 bis 20.00 Uhr):\n30. November 2021\n14. Dezember 2021\n11. Januar 2022
 \n \nDie Veranstaltungen können auch einzeln besucht werden. Jede Sitzung i
 st in sich abgeschlossen.\n This event was imported from: https://esg-trier
 .de/veranstaltungskalender/eventeinzelheiten/5427/-/philosophisches-café-le
 id-und-übel-herausforderungen-für-glaube-und-philosophie?tmpl=component (ht
 tps://esg-trier.de/veranstaltungskalender/eventeinzelheiten/5427/-/philosop
 hisches-café-leid-und-übel-herausforderungen-für-glaube-und-philosophie?tmp
 l=component)
X-ALT-DESC;FMTTYPE=text/html:<p><strong>"Leid und Übel - Herausforderungen für Glaube und Philosophie"</
 strong></p><p>Die Erfahrung von Leid ist allgegenwärtig, möglicherweise sog
 ar überwiegend im Zeitalter globaler Kommunikation und Information. </p><p>
 An einer Antwort auf die Frage nach dem Ursprung sowie Sinn des rätselhafte
 n Übels versuchen sich seit jeher Religionen, Mythologien, politische Ideol
 ogien und mittlerweile auch Wissenschaften. <br />Die in ihrem Selbstverstä
 ndnis nach den letzten Prinzipien und Gründen fragende Philosophie behandel
 t die Problematik der Annahme eines allmächtigen Gottes angesichts teilweis
 e monströser Dimensionen der Leiderfahrung unter dem Kunstwort ‚Theodizee‘.
  <br /><br />Aus den mannigfaltigen und variantenreichen Entwürfen bzw. Pos
 itionen an dieser Schnittstelle zwischen Theologie und Philosophie sollen i
 m Wintercafé ausgewählte Textauszüge von der Antike bis zur Postmoderne vor
 gestellt und gemeinsam analysiert werden.</p><p>Gesprächsleiter: <strong>Di
 pl.-Theol. Christian Höchel M.A.</strong></p><p> </p><p>Termine (jeweils 18
 :30 bis 20.00 Uhr):</p><p>30. November 2021</p><p>14. Dezember 2021</p><p>1
 1. Januar 2022</p><p> </p><p>Die Veranstaltungen können auch einzeln besuch
 t werden. Jede Sitzung ist in sich abgeschlossen.</p> <a href="https://esg-
 trier.de/veranstaltungskalender/eventeinzelheiten/5427/-/philosophisches-ca
 fé-leid-und-übel-herausforderungen-für-glaube-und-philosophie?tmpl=componen
 t">This event was imported from: https://esg-trier.de/veranstaltungskalende
 r/eventeinzelheiten/5427/-/philosophisches-café-leid-und-übel-herausforderu
 ngen-für-glaube-und-philosophie?tmpl=component</a>DTSTAMP:20260419T193206
DTSTART;TZID=Europe/Berlin:20211130T183000
DTEND;TZID=Europe/Berlin:20211130T200000
SEQUENCE:0
TRANSP:OPAQUE
END:VEVENT
END:VCALENDAR