BEGIN:VCALENDAR
VERSION:2.0
PRODID:-//jEvents 2.0 for Joomla//EN
CALSCALE:GREGORIAN
METHOD:PUBLISH
BEGIN:VTIMEZONE
TZID:Europe/Berlin
BEGIN:STANDARD
DTSTART:20241027T020000
RDATE:20250330T030000
TZOFFSETFROM:+0200
TZOFFSETTO:+0100
TZNAME:Europe/Berlin CET
END:STANDARD
BEGIN:STANDARD
DTSTART:20251026T020000
RDATE:20260329T030000
TZOFFSETFROM:+0200
TZOFFSETTO:+0100
TZNAME:Europe/Berlin CET
END:STANDARD
BEGIN:STANDARD
DTSTART:20261025T020000
RDATE:20270328T030000
TZOFFSETFROM:+0200
TZOFFSETTO:+0100
TZNAME:Europe/Berlin CET
END:STANDARD
BEGIN:STANDARD
DTSTART:20271031T020000
RDATE:20280326T030000
TZOFFSETFROM:+0200
TZOFFSETTO:+0100
TZNAME:Europe/Berlin CET
END:STANDARD
BEGIN:DAYLIGHT
DTSTART:20240414T100000
RDATE:20241027T020000
TZOFFSETFROM:+0100
TZOFFSETTO:+0200
TZNAME:Europe/Berlin CEST
END:DAYLIGHT
BEGIN:DAYLIGHT
DTSTART:20250330T030000
RDATE:20251026T020000
TZOFFSETFROM:+0100
TZOFFSETTO:+0200
TZNAME:Europe/Berlin CEST
END:DAYLIGHT
BEGIN:DAYLIGHT
DTSTART:20260329T030000
RDATE:20261025T020000
TZOFFSETFROM:+0100
TZOFFSETTO:+0200
TZNAME:Europe/Berlin CEST
END:DAYLIGHT
BEGIN:DAYLIGHT
DTSTART:20270328T030000
RDATE:20271031T020000
TZOFFSETFROM:+0100
TZOFFSETTO:+0200
TZNAME:Europe/Berlin CEST
END:DAYLIGHT
END:VTIMEZONE
BEGIN:VEVENT
UID:89482762446c983d5a43f5b7fd7866f4
CATEGORIES:ESG
CREATED:19700101T010000
SUMMARY:Uni-Seminar: Reformation und Konfessionalisierung
URL;VALUE=URI:https://esg-trier.de/veranstaltungskalender/eventeinzelheiten/9359/-/uni-se
 minar-reformation-und-konfessionalisierung?tmpl=component
DESCRIPTION:<p>In diesem Seminar werden zentrale Ereignisse und theologische Entscheidu
 ngen behandelt, die große Bedeutung für Politik und Gesellschaft nicht nur 
 in der Frühen Neuzeit besaßen. Ziel dieses Seminars ist es, einen fundierte
 n quellengestützten Überblick über diese Epoche zu bekommen.</p> <a href="h
 ttps://esg-trier.de/veranstaltungskalender/eventeinzelheiten/9359/-/uni-sem
 inar-reformation-und-konfessionalisierung?tmpl=component">This event was im
 ported from: https://esg-trier.de/veranstaltungskalender/eventeinzelheiten/
 9359/-/uni-seminar-reformation-und-konfessionalisierung?tmpl=component</a>DTSTAMP:20260421T130949
DTSTART;TZID=Europe/Berlin:20250415T100000
DTEND;TZID=Europe/Berlin:20250415T120000
SEQUENCE:0
RRULE:FREQ=WEEKLY;UNTIL=20250712T000000Z;INTERVAL=1;BYDAY=TU
TRANSP:OPAQUE
END:VEVENT
END:VCALENDAR