BEGIN:VCALENDAR
VERSION:2.0
PRODID:-//jEvents 2.0 for Joomla//EN
CALSCALE:GREGORIAN
METHOD:PUBLISH
BEGIN:VTIMEZONE
TZID:Europe/Berlin
BEGIN:STANDARD
DTSTART:20131027T020000
RDATE:20140330T030000
TZOFFSETFROM:+0200
TZOFFSETTO:+0100
TZNAME:Europe/Berlin CET
END:STANDARD
BEGIN:STANDARD
DTSTART:20141026T020000
RDATE:20150329T030000
TZOFFSETFROM:+0200
TZOFFSETTO:+0100
TZNAME:Europe/Berlin CET
END:STANDARD
BEGIN:STANDARD
DTSTART:20151025T020000
RDATE:20160327T030000
TZOFFSETFROM:+0200
TZOFFSETTO:+0100
TZNAME:Europe/Berlin CET
END:STANDARD
BEGIN:STANDARD
DTSTART:20161030T020000
RDATE:20170326T030000
TZOFFSETFROM:+0200
TZOFFSETTO:+0100
TZNAME:Europe/Berlin CET
END:STANDARD
BEGIN:STANDARD
DTSTART:20171029T020000
RDATE:20180325T030000
TZOFFSETFROM:+0200
TZOFFSETTO:+0100
TZNAME:Europe/Berlin CET
END:STANDARD
BEGIN:STANDARD
DTSTART:20181028T020000
RDATE:20190331T030000
TZOFFSETFROM:+0200
TZOFFSETTO:+0100
TZNAME:Europe/Berlin CET
END:STANDARD
BEGIN:STANDARD
DTSTART:20191027T020000
RDATE:20200329T030000
TZOFFSETFROM:+0200
TZOFFSETTO:+0100
TZNAME:Europe/Berlin CET
END:STANDARD
BEGIN:STANDARD
DTSTART:20201025T020000
RDATE:20210328T030000
TZOFFSETFROM:+0200
TZOFFSETTO:+0100
TZNAME:Europe/Berlin CET
END:STANDARD
BEGIN:STANDARD
DTSTART:20211031T020000
RDATE:20220327T030000
TZOFFSETFROM:+0200
TZOFFSETTO:+0100
TZNAME:Europe/Berlin CET
END:STANDARD
BEGIN:STANDARD
DTSTART:20221030T020000
RDATE:20230326T030000
TZOFFSETFROM:+0200
TZOFFSETTO:+0100
TZNAME:Europe/Berlin CET
END:STANDARD
BEGIN:STANDARD
DTSTART:20231029T020000
RDATE:20240331T030000
TZOFFSETFROM:+0200
TZOFFSETTO:+0100
TZNAME:Europe/Berlin CET
END:STANDARD
BEGIN:STANDARD
DTSTART:20241027T020000
RDATE:20250330T030000
TZOFFSETFROM:+0200
TZOFFSETTO:+0100
TZNAME:Europe/Berlin CET
END:STANDARD
BEGIN:STANDARD
DTSTART:20251026T020000
RDATE:20260329T030000
TZOFFSETFROM:+0200
TZOFFSETTO:+0100
TZNAME:Europe/Berlin CET
END:STANDARD
BEGIN:STANDARD
DTSTART:20261025T020000
RDATE:20270328T030000
TZOFFSETFROM:+0200
TZOFFSETTO:+0100
TZNAME:Europe/Berlin CET
END:STANDARD
BEGIN:STANDARD
DTSTART:20271031T020000
RDATE:20280326T030000
TZOFFSETFROM:+0200
TZOFFSETTO:+0100
TZNAME:Europe/Berlin CET
END:STANDARD
BEGIN:DAYLIGHT
DTSTART:20130618T173000
RDATE:20131027T020000
TZOFFSETFROM:+0100
TZOFFSETTO:+0200
TZNAME:Europe/Berlin CEST
END:DAYLIGHT
BEGIN:DAYLIGHT
DTSTART:20140330T030000
RDATE:20141026T020000
TZOFFSETFROM:+0100
TZOFFSETTO:+0200
TZNAME:Europe/Berlin CEST
END:DAYLIGHT
BEGIN:DAYLIGHT
DTSTART:20150329T030000
RDATE:20151025T020000
TZOFFSETFROM:+0100
TZOFFSETTO:+0200
TZNAME:Europe/Berlin CEST
END:DAYLIGHT
BEGIN:DAYLIGHT
DTSTART:20160327T030000
RDATE:20161030T020000
TZOFFSETFROM:+0100
TZOFFSETTO:+0200
TZNAME:Europe/Berlin CEST
END:DAYLIGHT
BEGIN:DAYLIGHT
DTSTART:20170326T030000
RDATE:20171029T020000
TZOFFSETFROM:+0100
TZOFFSETTO:+0200
TZNAME:Europe/Berlin CEST
END:DAYLIGHT
BEGIN:DAYLIGHT
DTSTART:20180325T030000
RDATE:20181028T020000
TZOFFSETFROM:+0100
TZOFFSETTO:+0200
TZNAME:Europe/Berlin CEST
END:DAYLIGHT
BEGIN:DAYLIGHT
DTSTART:20190331T030000
RDATE:20191027T020000
TZOFFSETFROM:+0100
TZOFFSETTO:+0200
TZNAME:Europe/Berlin CEST
END:DAYLIGHT
BEGIN:DAYLIGHT
DTSTART:20200329T030000
RDATE:20201025T020000
TZOFFSETFROM:+0100
TZOFFSETTO:+0200
TZNAME:Europe/Berlin CEST
END:DAYLIGHT
BEGIN:DAYLIGHT
DTSTART:20210328T030000
RDATE:20211031T020000
TZOFFSETFROM:+0100
TZOFFSETTO:+0200
TZNAME:Europe/Berlin CEST
END:DAYLIGHT
BEGIN:DAYLIGHT
DTSTART:20220327T030000
RDATE:20221030T020000
TZOFFSETFROM:+0100
TZOFFSETTO:+0200
TZNAME:Europe/Berlin CEST
END:DAYLIGHT
BEGIN:DAYLIGHT
DTSTART:20230326T030000
RDATE:20231029T020000
TZOFFSETFROM:+0100
TZOFFSETTO:+0200
TZNAME:Europe/Berlin CEST
END:DAYLIGHT
BEGIN:DAYLIGHT
DTSTART:20240331T030000
RDATE:20241027T020000
TZOFFSETFROM:+0100
TZOFFSETTO:+0200
TZNAME:Europe/Berlin CEST
END:DAYLIGHT
BEGIN:DAYLIGHT
DTSTART:20250330T030000
RDATE:20251026T020000
TZOFFSETFROM:+0100
TZOFFSETTO:+0200
TZNAME:Europe/Berlin CEST
END:DAYLIGHT
BEGIN:DAYLIGHT
DTSTART:20260329T030000
RDATE:20261025T020000
TZOFFSETFROM:+0100
TZOFFSETTO:+0200
TZNAME:Europe/Berlin CEST
END:DAYLIGHT
BEGIN:DAYLIGHT
DTSTART:20270328T030000
RDATE:20271031T020000
TZOFFSETFROM:+0100
TZOFFSETTO:+0200
TZNAME:Europe/Berlin CEST
END:DAYLIGHT
END:VTIMEZONE
BEGIN:VEVENT
UID:f8329c685a568d79b3cdd3068cbd2dc2
CATEGORIES:Gruppen
CREATED:20140413T170703
SUMMARY:Chor "The Wednesdays"
LOCATION:ESG Trier\, Versammlungsraum
URL;VALUE=URI:https://esg-trier.de/veranstaltungskalender/eventeinzelheiten/2334/-/chor-t
 he-wednesdays?tmpl=component
DESCRIPTION:Hallo! Wir sind die Wednesdays.\n\nWir singen, worauf wir Bock haben, \nsei
  es Classic Rock, 90er-Pop oder aktuelle Charts – und alles in Eigenregie.\
 n \nWir sind offen für alle Interessierten und freuen uns jederzeit über ne
 ue Mitsingende, die wöchentlich an den Proben teilnehmen können! Diese find
 en donnerstags (auch in den Semesterferien) ab 17:30 Uhr im Klavierraum sta
 tt.\n\nSchnupper' doch mal rein!\n \nMehr Infos über: Diese E-Mail-Adresse 
 ist vor Spambots geschützt! Zur Anzeige muss JavaScript eingeschaltet sein.
 \n This event was imported from: https://esg-trier.de/veranstaltungskalende
 r/eventeinzelheiten/2334/-/chor-the-wednesdays?tmpl=component (https://esg-
 trier.de/veranstaltungskalender/eventeinzelheiten/2334/-/chor-the-wednesday
 s?tmpl=component)
X-ALT-DESC;FMTTYPE=text/html:<p>Hallo! Wir sind die Wednesdays.</p><p><br />Wir singen, worauf wir Bock 
 haben, <br />sei es Classic Rock, 90er-Pop oder aktuelle Charts – und alles
  in Eigenregie.</p><p> </p><p>Wir sind offen für alle Interessierten und fr
 euen uns jederzeit über neue Mitsingende, die wöchentlich an den Proben tei
 lnehmen können! Diese finden donnerstags (auch in den Semesterferien) ab 17
 :30 Uhr im Klavierraum statt.</p><p><br />Schnupper' doch mal rein!</p><p> 
 </p><p>Mehr Infos über: <span style="font-size: 11.0pt; font-family: 'Calib
 ri','sans-serif'; mso-ascii-theme-font: minor-latin; mso-fareast-font-famil
 y: Calibri; mso-fareast-theme-font: minor-latin; mso-hansi-theme-font: mino
 r-latin; mso-bidi-font-family: 'Times New Roman'; mso-bidi-theme-font: mino
 r-bidi; mso-ansi-language: DE; mso-fareast-language: EN-US; mso-bidi-langua
 ge: AR-SA;"><joomla-hidden-mail  is-link="1" is-email="1" first="d2VkbmVzZG
 F5cw==" last="ZXNnLXRyaWVyLmRl" text="d2VkbmVzZGF5c0Blc2ctdHJpZXIuZGU=" bas
 e="" >Diese E-Mail-Adresse ist vor Spambots geschützt! Zur Anzeige muss Jav
 aScript eingeschaltet sein.</joomla-hidden-mail></span></p> <a href="https:
 //esg-trier.de/veranstaltungskalender/eventeinzelheiten/2334/-/chor-the-wed
 nesdays?tmpl=component">This event was imported from: https://esg-trier.de/
 veranstaltungskalender/eventeinzelheiten/2334/-/chor-the-wednesdays?tmpl=co
 mponent</a>DTSTAMP:20260425T123433
DTSTART;TZID=Europe/Berlin:20140619T173000
DTEND;TZID=Europe/Berlin:20140619T193000
SEQUENCE:0
TRANSP:OPAQUE
END:VEVENT
END:VCALENDAR