BEGIN:VCALENDAR
VERSION:2.0
PRODID:-//jEvents 2.0 for Joomla//EN
CALSCALE:GREGORIAN
METHOD:PUBLISH
BEGIN:VTIMEZONE
TZID:Europe/Berlin
BEGIN:STANDARD
DTSTART:20160111T170000
RDATE:20160327T030000
TZOFFSETFROM:+0200
TZOFFSETTO:+0100
TZNAME:Europe/Berlin CET
END:STANDARD
BEGIN:STANDARD
DTSTART:20161030T020000
RDATE:20170326T030000
TZOFFSETFROM:+0200
TZOFFSETTO:+0100
TZNAME:Europe/Berlin CET
END:STANDARD
BEGIN:STANDARD
DTSTART:20171029T020000
RDATE:20180325T030000
TZOFFSETFROM:+0200
TZOFFSETTO:+0100
TZNAME:Europe/Berlin CET
END:STANDARD
BEGIN:STANDARD
DTSTART:20181028T020000
RDATE:20190331T030000
TZOFFSETFROM:+0200
TZOFFSETTO:+0100
TZNAME:Europe/Berlin CET
END:STANDARD
BEGIN:STANDARD
DTSTART:20191027T020000
RDATE:20200329T030000
TZOFFSETFROM:+0200
TZOFFSETTO:+0100
TZNAME:Europe/Berlin CET
END:STANDARD
BEGIN:STANDARD
DTSTART:20201025T020000
RDATE:20210328T030000
TZOFFSETFROM:+0200
TZOFFSETTO:+0100
TZNAME:Europe/Berlin CET
END:STANDARD
BEGIN:STANDARD
DTSTART:20211031T020000
RDATE:20220327T030000
TZOFFSETFROM:+0200
TZOFFSETTO:+0100
TZNAME:Europe/Berlin CET
END:STANDARD
BEGIN:STANDARD
DTSTART:20221030T020000
RDATE:20230326T030000
TZOFFSETFROM:+0200
TZOFFSETTO:+0100
TZNAME:Europe/Berlin CET
END:STANDARD
BEGIN:STANDARD
DTSTART:20231029T020000
RDATE:20240331T030000
TZOFFSETFROM:+0200
TZOFFSETTO:+0100
TZNAME:Europe/Berlin CET
END:STANDARD
BEGIN:STANDARD
DTSTART:20241027T020000
RDATE:20250330T030000
TZOFFSETFROM:+0200
TZOFFSETTO:+0100
TZNAME:Europe/Berlin CET
END:STANDARD
BEGIN:STANDARD
DTSTART:20251026T020000
RDATE:20260329T030000
TZOFFSETFROM:+0200
TZOFFSETTO:+0100
TZNAME:Europe/Berlin CET
END:STANDARD
BEGIN:STANDARD
DTSTART:20261025T020000
RDATE:20270328T030000
TZOFFSETFROM:+0200
TZOFFSETTO:+0100
TZNAME:Europe/Berlin CET
END:STANDARD
BEGIN:STANDARD
DTSTART:20271031T020000
RDATE:20280326T030000
TZOFFSETFROM:+0200
TZOFFSETTO:+0100
TZNAME:Europe/Berlin CET
END:STANDARD
BEGIN:DAYLIGHT
DTSTART:20160327T030000
RDATE:20161030T020000
TZOFFSETFROM:+0100
TZOFFSETTO:+0200
TZNAME:Europe/Berlin CEST
END:DAYLIGHT
BEGIN:DAYLIGHT
DTSTART:20170326T030000
RDATE:20171029T020000
TZOFFSETFROM:+0100
TZOFFSETTO:+0200
TZNAME:Europe/Berlin CEST
END:DAYLIGHT
BEGIN:DAYLIGHT
DTSTART:20180325T030000
RDATE:20181028T020000
TZOFFSETFROM:+0100
TZOFFSETTO:+0200
TZNAME:Europe/Berlin CEST
END:DAYLIGHT
BEGIN:DAYLIGHT
DTSTART:20190331T030000
RDATE:20191027T020000
TZOFFSETFROM:+0100
TZOFFSETTO:+0200
TZNAME:Europe/Berlin CEST
END:DAYLIGHT
BEGIN:DAYLIGHT
DTSTART:20200329T030000
RDATE:20201025T020000
TZOFFSETFROM:+0100
TZOFFSETTO:+0200
TZNAME:Europe/Berlin CEST
END:DAYLIGHT
BEGIN:DAYLIGHT
DTSTART:20210328T030000
RDATE:20211031T020000
TZOFFSETFROM:+0100
TZOFFSETTO:+0200
TZNAME:Europe/Berlin CEST
END:DAYLIGHT
BEGIN:DAYLIGHT
DTSTART:20220327T030000
RDATE:20221030T020000
TZOFFSETFROM:+0100
TZOFFSETTO:+0200
TZNAME:Europe/Berlin CEST
END:DAYLIGHT
BEGIN:DAYLIGHT
DTSTART:20230326T030000
RDATE:20231029T020000
TZOFFSETFROM:+0100
TZOFFSETTO:+0200
TZNAME:Europe/Berlin CEST
END:DAYLIGHT
BEGIN:DAYLIGHT
DTSTART:20240331T030000
RDATE:20241027T020000
TZOFFSETFROM:+0100
TZOFFSETTO:+0200
TZNAME:Europe/Berlin CEST
END:DAYLIGHT
BEGIN:DAYLIGHT
DTSTART:20250330T030000
RDATE:20251026T020000
TZOFFSETFROM:+0100
TZOFFSETTO:+0200
TZNAME:Europe/Berlin CEST
END:DAYLIGHT
BEGIN:DAYLIGHT
DTSTART:20260329T030000
RDATE:20261025T020000
TZOFFSETFROM:+0100
TZOFFSETTO:+0200
TZNAME:Europe/Berlin CEST
END:DAYLIGHT
BEGIN:DAYLIGHT
DTSTART:20270328T030000
RDATE:20271031T020000
TZOFFSETFROM:+0100
TZOFFSETTO:+0200
TZNAME:Europe/Berlin CEST
END:DAYLIGHT
END:VTIMEZONE
BEGIN:VEVENT
UID:2fadd4cf614fe9c9d2d74cc9d563cb3a
CATEGORIES:ESG
CREATED:20160817T170849
SUMMARY:Repair Cafe
LOCATION:ESG Trier
URL;VALUE=URI:https://esg-trier.de/veranstaltungskalender/eventeinzelheiten/3589/-/repair
 -cafe?tmpl=component
DESCRIPTION:Jeden 2. Mittwoch im Monat ab 17:00\nSiehe auch Seite 13 unseres Semesterpr
 ogramms Sommer 2016.\nWas machen mit einem Toaster, der nicht mehr funktion
 iert?\nOder mit einem Kopfhörer mit Kabelbruch?\nOder mit einem Pullover mi
 t Mottenlöchern?\nWegwerfen? Warum sollten wir!\nUnd wer nicht so lange war
 ten kann, findet vielleicht beim Repaire Café im Mergener Hof (https://repa
 ircafe-trier.de/) einen früheren Termin.\n This event was imported from: ht
 tps://esg-trier.de/veranstaltungskalender/eventeinzelheiten/3589/-/repair-c
 afe?tmpl=component (https://esg-trier.de/veranstaltungskalender/eventeinzel
 heiten/3589/-/repair-cafe?tmpl=component)
X-ALT-DESC;FMTTYPE=text/html:<p><strong>Jeden 2. Mittwoch im Monat ab 17:00</strong></p><p>Siehe auch <a
  href="https://esg-trier.de/images/flippingbook/ProgrammWiSe14-15/2/WiSe%20
 14-15-112.jpg" target="_blank" title="Mehr zum Repair Café in der ESG">Seit
 e 13</a> unseres Semesterprogramms Sommer 2016.</p><p>Was machen mit einem 
 Toaster, der nicht mehr funktioniert?</p><p>Oder mit einem Kopfhörer mit Ka
 belbruch?</p><p>Oder mit einem Pullover mit Mottenlöchern?</p><p>Wegwerfen?
  Warum sollten wir!</p><p>Und wer nicht so lange warten kann, findet vielle
 icht beim <strong><a href="https://repaircafe-trier.de/" target="_blank" ti
 tle="zum anderen Repair Café in Trier">Repaire Café im Mergener Hof</a></st
 rong> einen früheren Termin.</p> <a href="https://esg-trier.de/veranstaltun
 gskalender/eventeinzelheiten/3589/-/repair-cafe?tmpl=component">This event 
 was imported from: https://esg-trier.de/veranstaltungskalender/eventeinzelh
 eiten/3589/-/repair-cafe?tmpl=component</a>DTSTAMP:20260425T154755
DTSTART;TZID=Europe/Berlin:20170111T170000
DTEND;TZID=Europe/Berlin:20170111T200000
SEQUENCE:0
TRANSP:OPAQUE
END:VEVENT
END:VCALENDAR