BEGIN:VCALENDAR
VERSION:2.0
PRODID:-//jEvents 2.0 for Joomla//EN
CALSCALE:GREGORIAN
METHOD:PUBLISH
BEGIN:VTIMEZONE
TZID:Europe/Berlin
BEGIN:STANDARD
DTSTART:20170207T080000
RDATE:20170326T030000
TZOFFSETFROM:+0200
TZOFFSETTO:+0100
TZNAME:Europe/Berlin CET
END:STANDARD
BEGIN:STANDARD
DTSTART:20171029T020000
RDATE:20180325T030000
TZOFFSETFROM:+0200
TZOFFSETTO:+0100
TZNAME:Europe/Berlin CET
END:STANDARD
BEGIN:STANDARD
DTSTART:20181028T020000
RDATE:20190331T030000
TZOFFSETFROM:+0200
TZOFFSETTO:+0100
TZNAME:Europe/Berlin CET
END:STANDARD
BEGIN:STANDARD
DTSTART:20191027T020000
RDATE:20200329T030000
TZOFFSETFROM:+0200
TZOFFSETTO:+0100
TZNAME:Europe/Berlin CET
END:STANDARD
BEGIN:STANDARD
DTSTART:20201025T020000
RDATE:20210328T030000
TZOFFSETFROM:+0200
TZOFFSETTO:+0100
TZNAME:Europe/Berlin CET
END:STANDARD
BEGIN:STANDARD
DTSTART:20211031T020000
RDATE:20220327T030000
TZOFFSETFROM:+0200
TZOFFSETTO:+0100
TZNAME:Europe/Berlin CET
END:STANDARD
BEGIN:STANDARD
DTSTART:20221030T020000
RDATE:20230326T030000
TZOFFSETFROM:+0200
TZOFFSETTO:+0100
TZNAME:Europe/Berlin CET
END:STANDARD
BEGIN:STANDARD
DTSTART:20231029T020000
RDATE:20240331T030000
TZOFFSETFROM:+0200
TZOFFSETTO:+0100
TZNAME:Europe/Berlin CET
END:STANDARD
BEGIN:STANDARD
DTSTART:20241027T020000
RDATE:20250330T030000
TZOFFSETFROM:+0200
TZOFFSETTO:+0100
TZNAME:Europe/Berlin CET
END:STANDARD
BEGIN:STANDARD
DTSTART:20251026T020000
RDATE:20260329T030000
TZOFFSETFROM:+0200
TZOFFSETTO:+0100
TZNAME:Europe/Berlin CET
END:STANDARD
BEGIN:STANDARD
DTSTART:20261025T020000
RDATE:20270328T030000
TZOFFSETFROM:+0200
TZOFFSETTO:+0100
TZNAME:Europe/Berlin CET
END:STANDARD
BEGIN:STANDARD
DTSTART:20271031T020000
RDATE:20280326T030000
TZOFFSETFROM:+0200
TZOFFSETTO:+0100
TZNAME:Europe/Berlin CET
END:STANDARD
BEGIN:DAYLIGHT
DTSTART:20170326T030000
RDATE:20171029T020000
TZOFFSETFROM:+0100
TZOFFSETTO:+0200
TZNAME:Europe/Berlin CEST
END:DAYLIGHT
BEGIN:DAYLIGHT
DTSTART:20180325T030000
RDATE:20181028T020000
TZOFFSETFROM:+0100
TZOFFSETTO:+0200
TZNAME:Europe/Berlin CEST
END:DAYLIGHT
BEGIN:DAYLIGHT
DTSTART:20190331T030000
RDATE:20191027T020000
TZOFFSETFROM:+0100
TZOFFSETTO:+0200
TZNAME:Europe/Berlin CEST
END:DAYLIGHT
BEGIN:DAYLIGHT
DTSTART:20200329T030000
RDATE:20201025T020000
TZOFFSETFROM:+0100
TZOFFSETTO:+0200
TZNAME:Europe/Berlin CEST
END:DAYLIGHT
BEGIN:DAYLIGHT
DTSTART:20210328T030000
RDATE:20211031T020000
TZOFFSETFROM:+0100
TZOFFSETTO:+0200
TZNAME:Europe/Berlin CEST
END:DAYLIGHT
BEGIN:DAYLIGHT
DTSTART:20220327T030000
RDATE:20221030T020000
TZOFFSETFROM:+0100
TZOFFSETTO:+0200
TZNAME:Europe/Berlin CEST
END:DAYLIGHT
BEGIN:DAYLIGHT
DTSTART:20230326T030000
RDATE:20231029T020000
TZOFFSETFROM:+0100
TZOFFSETTO:+0200
TZNAME:Europe/Berlin CEST
END:DAYLIGHT
BEGIN:DAYLIGHT
DTSTART:20240331T030000
RDATE:20241027T020000
TZOFFSETFROM:+0100
TZOFFSETTO:+0200
TZNAME:Europe/Berlin CEST
END:DAYLIGHT
BEGIN:DAYLIGHT
DTSTART:20250330T030000
RDATE:20251026T020000
TZOFFSETFROM:+0100
TZOFFSETTO:+0200
TZNAME:Europe/Berlin CEST
END:DAYLIGHT
BEGIN:DAYLIGHT
DTSTART:20260329T030000
RDATE:20261025T020000
TZOFFSETFROM:+0100
TZOFFSETTO:+0200
TZNAME:Europe/Berlin CEST
END:DAYLIGHT
BEGIN:DAYLIGHT
DTSTART:20270328T030000
RDATE:20271031T020000
TZOFFSETFROM:+0100
TZOFFSETTO:+0200
TZNAME:Europe/Berlin CEST
END:DAYLIGHT
END:VTIMEZONE
BEGIN:VEVENT
UID:8521dd691f437cf2d308dbb237f4b23f
CATEGORIES:ESG
CREATED:20171012T134236
SUMMARY:Übungsgruppe: "AchtsamkeitsMeditation" in der ESG
LOCATION:ESG Versammlungsraum
URL;VALUE=URI:https://esg-trier.de/veranstaltungskalender/eventeinzelheiten/4227/-/übungs
 gruppe-achtsamkeitsmeditation-in-der-esg?tmpl=component
DESCRIPTION:<p style="outline: 0px; margin: 0px 0px 15px; padding: 0px; font-family: Sq
 uare721BT-Roman, Arial, Helvetica, sans-serif; font-size: 18px;">Donnerstag
  19. Oktober startet die psychosoziale Beratung im Studiwerk eine neue Übun
 gsgruppe zur "AchtsamkeitsMeditation" in Kooperation mit der ESG. Jeden Don
 nerstag von 8.00 bis 09.00 Uhr trifft sich die Gruppe im Versammlungsraum d
 er ESG. Der Kurs ist offen für Alle, kostenlos und eine Teilnahme ist nach 
 Voranmeldung per Mail möglich:&nbsp;<joomla-hidden-mail  is-link="1" is-ema
 il="1" first="Tmljb2xlLkFyZW5kdA==" last="c3R1ZGllcmVuZGVud2Vyay10cmllci5kZ
 Q==" text="Tmljb2xlLkFyZW5kdEBzdHVkaWVyZW5kZW53ZXJrLXRyaWVyLmRl" base=""  s
 tyle="outline: 0px; color: #4e891e;">Diese E-Mail-Adresse ist vor Spambots 
 geschützt! Zur Anzeige muss JavaScript eingeschaltet sein.</joomla-hidden-m
 ail></p><p style="outline: 0px; margin: 0px; padding: 0px; font-family: Squ
 are721BT-Roman, Arial, Helvetica, sans-serif; font-size: 18px;">Zum Inhalt:
  30 Minuten achtsame Körperübungen aus dem Yoga, 20 Minuten Sitzmeditation 
 und 10 Minuten Zeit zum Austausch. Sitzkissen sind vorhanden, eine Iso- ode
 r Yogamatte muss mitgebracht werden.</p> <a href="https://esg-trier.de/vera
 nstaltungskalender/eventeinzelheiten/4227/-/übungsgruppe-achtsamkeitsmedita
 tion-in-der-esg?tmpl=component">This event was imported from: https://esg-t
 rier.de/veranstaltungskalender/eventeinzelheiten/4227/-/übungsgruppe-achtsa
 mkeitsmeditation-in-der-esg?tmpl=component</a>CONTACT:https://www.studiwerk.de/eo/cms?_sprache=de&amp;_bereich=artikel&amp;_aktion=detail&amp;idartikel=212373
DTSTAMP:20260425T143345
DTSTART;TZID=Europe/Berlin:20180208T080000
DTEND;TZID=Europe/Berlin:20180208T090000
SEQUENCE:0
TRANSP:OPAQUE
END:VEVENT
END:VCALENDAR