BEGIN:VCALENDAR
VERSION:2.0
PRODID:-//jEvents 2.0 for Joomla//EN
CALSCALE:GREGORIAN
METHOD:PUBLISH
BEGIN:VTIMEZONE
TZID:Europe/Berlin
BEGIN:STANDARD
DTSTART:20171029T020000
RDATE:20180325T030000
TZOFFSETFROM:+0200
TZOFFSETTO:+0100
TZNAME:Europe/Berlin CET
END:STANDARD
BEGIN:STANDARD
DTSTART:20181028T020000
RDATE:20190331T030000
TZOFFSETFROM:+0200
TZOFFSETTO:+0100
TZNAME:Europe/Berlin CET
END:STANDARD
BEGIN:STANDARD
DTSTART:20191027T020000
RDATE:20200329T030000
TZOFFSETFROM:+0200
TZOFFSETTO:+0100
TZNAME:Europe/Berlin CET
END:STANDARD
BEGIN:STANDARD
DTSTART:20201025T020000
RDATE:20210328T030000
TZOFFSETFROM:+0200
TZOFFSETTO:+0100
TZNAME:Europe/Berlin CET
END:STANDARD
BEGIN:STANDARD
DTSTART:20211031T020000
RDATE:20220327T030000
TZOFFSETFROM:+0200
TZOFFSETTO:+0100
TZNAME:Europe/Berlin CET
END:STANDARD
BEGIN:STANDARD
DTSTART:20221030T020000
RDATE:20230326T030000
TZOFFSETFROM:+0200
TZOFFSETTO:+0100
TZNAME:Europe/Berlin CET
END:STANDARD
BEGIN:STANDARD
DTSTART:20231029T020000
RDATE:20240331T030000
TZOFFSETFROM:+0200
TZOFFSETTO:+0100
TZNAME:Europe/Berlin CET
END:STANDARD
BEGIN:STANDARD
DTSTART:20241027T020000
RDATE:20250330T030000
TZOFFSETFROM:+0200
TZOFFSETTO:+0100
TZNAME:Europe/Berlin CET
END:STANDARD
BEGIN:STANDARD
DTSTART:20251026T020000
RDATE:20260329T030000
TZOFFSETFROM:+0200
TZOFFSETTO:+0100
TZNAME:Europe/Berlin CET
END:STANDARD
BEGIN:STANDARD
DTSTART:20261025T020000
RDATE:20270328T030000
TZOFFSETFROM:+0200
TZOFFSETTO:+0100
TZNAME:Europe/Berlin CET
END:STANDARD
BEGIN:STANDARD
DTSTART:20271031T020000
RDATE:20280326T030000
TZOFFSETFROM:+0200
TZOFFSETTO:+0100
TZNAME:Europe/Berlin CET
END:STANDARD
BEGIN:DAYLIGHT
DTSTART:20170423T121500
RDATE:20171029T020000
TZOFFSETFROM:+0100
TZOFFSETTO:+0200
TZNAME:Europe/Berlin CEST
END:DAYLIGHT
BEGIN:DAYLIGHT
DTSTART:20180325T030000
RDATE:20181028T020000
TZOFFSETFROM:+0100
TZOFFSETTO:+0200
TZNAME:Europe/Berlin CEST
END:DAYLIGHT
BEGIN:DAYLIGHT
DTSTART:20190331T030000
RDATE:20191027T020000
TZOFFSETFROM:+0100
TZOFFSETTO:+0200
TZNAME:Europe/Berlin CEST
END:DAYLIGHT
BEGIN:DAYLIGHT
DTSTART:20200329T030000
RDATE:20201025T020000
TZOFFSETFROM:+0100
TZOFFSETTO:+0200
TZNAME:Europe/Berlin CEST
END:DAYLIGHT
BEGIN:DAYLIGHT
DTSTART:20210328T030000
RDATE:20211031T020000
TZOFFSETFROM:+0100
TZOFFSETTO:+0200
TZNAME:Europe/Berlin CEST
END:DAYLIGHT
BEGIN:DAYLIGHT
DTSTART:20220327T030000
RDATE:20221030T020000
TZOFFSETFROM:+0100
TZOFFSETTO:+0200
TZNAME:Europe/Berlin CEST
END:DAYLIGHT
BEGIN:DAYLIGHT
DTSTART:20230326T030000
RDATE:20231029T020000
TZOFFSETFROM:+0100
TZOFFSETTO:+0200
TZNAME:Europe/Berlin CEST
END:DAYLIGHT
BEGIN:DAYLIGHT
DTSTART:20240331T030000
RDATE:20241027T020000
TZOFFSETFROM:+0100
TZOFFSETTO:+0200
TZNAME:Europe/Berlin CEST
END:DAYLIGHT
BEGIN:DAYLIGHT
DTSTART:20250330T030000
RDATE:20251026T020000
TZOFFSETFROM:+0100
TZOFFSETTO:+0200
TZNAME:Europe/Berlin CEST
END:DAYLIGHT
BEGIN:DAYLIGHT
DTSTART:20260329T030000
RDATE:20261025T020000
TZOFFSETFROM:+0100
TZOFFSETTO:+0200
TZNAME:Europe/Berlin CEST
END:DAYLIGHT
BEGIN:DAYLIGHT
DTSTART:20270328T030000
RDATE:20271031T020000
TZOFFSETFROM:+0100
TZOFFSETTO:+0200
TZNAME:Europe/Berlin CEST
END:DAYLIGHT
END:VTIMEZONE
BEGIN:VEVENT
UID:e8be3ac1462cb502c4c7ad1ea2649070
CATEGORIES:ESG
CREATED:20180404T082938
SUMMARY:ESG Laufgruppe
LOCATION:Treffpunkt in der ESG
URL;VALUE=URI:https://esg-trier.de/veranstaltungskalender/eventeinzelheiten/4478/-/esg-la
 ufgruppe?tmpl=component
DESCRIPTION:Was hat die Laufgruppe mit dem SV Werder gemeinsam? \nGenau – sie steht mit
 ten in einer Umbruchsituation. Verdiente Veteranen unserer Gruppe laufen mi
 ttlerweile deutschlandweit auf höchstem Niveau. Sind gefragte Aktive auf al
 len nationalen und internationalen Sportfestivals. Auch beim Trierer Stadtl
 auf konnte die ESG-Gruppe beim internationalen Publikum regelmäßig tiefen E
 indruck hinterlassen. \nAber nun heißt es für uns erneut: Wir starten mit n
 euen Läuferinnen und Läufern ganz neu. Wieder heißt es: Aus Anfängern werde
 n Helden. \nUnd wir wollen wieder mit den Vorbereitungen zum nächsten Trier
 er Stadtlauf beginnen. Anfängerinnen und Anfänger sind ausdrücklich erwünsc
 ht! Wer als Neuling 500 Meter am Stück laufen kann, wird zu Recht gefeiert.
  Wir sind auch keine feste Gruppe; jeder/jede kann jederzeit hinzustoßen. U
 nd keine Angst: Niemand wird in Grund und Boden gerannt. Wir starten gemein
 sam und kommen gemeinsam an!\n \nTreffpunkt jeweils dienstags, 12.15 Uhr in
  (!!!) der ESG. Wer da ist, ist da…\n This event was imported from: https:/
 /esg-trier.de/veranstaltungskalender/eventeinzelheiten/4478/-/esg-laufgrupp
 e?tmpl=component (https://esg-trier.de/veranstaltungskalender/eventeinzelhe
 iten/4478/-/esg-laufgruppe?tmpl=component)
X-ALT-DESC;FMTTYPE=text/html:<p>Was hat die Laufgruppe mit dem SV Werder gemeinsam?&nbsp;</p><p>Genau – 
 sie steht mitten in einer Umbruchsituation. Verdiente Veteranen unserer Gru
 ppe laufen mittlerweile deutschlandweit auf höchstem Niveau. Sind gefragte 
 Aktive auf allen nationalen und internationalen Sportfestivals. Auch beim T
 rierer Stadtlauf konnte die ESG-Gruppe beim internationalen Publikum regelm
 äßig tiefen Eindruck hinterlassen.&nbsp;</p><p>Aber nun heißt es für uns er
 neut: Wir starten mit neuen Läuferinnen und Läufern ganz neu. Wieder heißt 
 es: Aus Anfängern werden Helden.&nbsp;</p><p>Und wir wollen wieder mit den 
 Vorbereitungen zum nächsten Trierer Stadtlauf beginnen. Anfängerinnen und A
 nfänger sind ausdrücklich erwünscht! Wer als Neuling 500 Meter am Stück lau
 fen kann, wird zu Recht gefeiert. Wir sind auch keine feste Gruppe; jeder/j
 ede kann jederzeit hinzustoßen. Und keine Angst: Niemand wird in Grund und 
 Boden gerannt. Wir starten gemeinsam und kommen gemeinsam an!</p><p>&nbsp;<
 /p><p>Treffpunkt jeweils dienstags,&nbsp;12.15 Uhr in (!!!) der ESG. Wer da
  ist, ist da…</p> <a href="https://esg-trier.de/veranstaltungskalender/even
 teinzelheiten/4478/-/esg-laufgruppe?tmpl=component">This event was imported
  from: https://esg-trier.de/veranstaltungskalender/eventeinzelheiten/4478/-
 /esg-laufgruppe?tmpl=component</a>DTSTAMP:20260425T123438
DTSTART;TZID=Europe/Berlin:20180424T121500
DTEND;TZID=Europe/Berlin:20180424T130000
SEQUENCE:0
TRANSP:OPAQUE
END:VEVENT
END:VCALENDAR