BEGIN:VCALENDAR
VERSION:2.0
PRODID:-//jEvents 2.0 for Joomla//EN
CALSCALE:GREGORIAN
METHOD:PUBLISH
BEGIN:VTIMEZONE
TZID:Europe/Berlin
BEGIN:STANDARD
DTSTART:20191027T020000
RDATE:20200329T030000
TZOFFSETFROM:+0200
TZOFFSETTO:+0100
TZNAME:Europe/Berlin CET
END:STANDARD
BEGIN:STANDARD
DTSTART:20201025T020000
RDATE:20210328T030000
TZOFFSETFROM:+0200
TZOFFSETTO:+0100
TZNAME:Europe/Berlin CET
END:STANDARD
BEGIN:STANDARD
DTSTART:20211031T020000
RDATE:20220327T030000
TZOFFSETFROM:+0200
TZOFFSETTO:+0100
TZNAME:Europe/Berlin CET
END:STANDARD
BEGIN:STANDARD
DTSTART:20221030T020000
RDATE:20230326T030000
TZOFFSETFROM:+0200
TZOFFSETTO:+0100
TZNAME:Europe/Berlin CET
END:STANDARD
BEGIN:STANDARD
DTSTART:20231029T020000
RDATE:20240331T030000
TZOFFSETFROM:+0200
TZOFFSETTO:+0100
TZNAME:Europe/Berlin CET
END:STANDARD
BEGIN:STANDARD
DTSTART:20241027T020000
RDATE:20250330T030000
TZOFFSETFROM:+0200
TZOFFSETTO:+0100
TZNAME:Europe/Berlin CET
END:STANDARD
BEGIN:STANDARD
DTSTART:20251026T020000
RDATE:20260329T030000
TZOFFSETFROM:+0200
TZOFFSETTO:+0100
TZNAME:Europe/Berlin CET
END:STANDARD
BEGIN:STANDARD
DTSTART:20261025T020000
RDATE:20270328T030000
TZOFFSETFROM:+0200
TZOFFSETTO:+0100
TZNAME:Europe/Berlin CET
END:STANDARD
BEGIN:STANDARD
DTSTART:20271031T020000
RDATE:20280326T030000
TZOFFSETFROM:+0200
TZOFFSETTO:+0100
TZNAME:Europe/Berlin CET
END:STANDARD
BEGIN:DAYLIGHT
DTSTART:20190519T100000
RDATE:20191027T020000
TZOFFSETFROM:+0100
TZOFFSETTO:+0200
TZNAME:Europe/Berlin CEST
END:DAYLIGHT
BEGIN:DAYLIGHT
DTSTART:20200329T030000
RDATE:20201025T020000
TZOFFSETFROM:+0100
TZOFFSETTO:+0200
TZNAME:Europe/Berlin CEST
END:DAYLIGHT
BEGIN:DAYLIGHT
DTSTART:20210328T030000
RDATE:20211031T020000
TZOFFSETFROM:+0100
TZOFFSETTO:+0200
TZNAME:Europe/Berlin CEST
END:DAYLIGHT
BEGIN:DAYLIGHT
DTSTART:20220327T030000
RDATE:20221030T020000
TZOFFSETFROM:+0100
TZOFFSETTO:+0200
TZNAME:Europe/Berlin CEST
END:DAYLIGHT
BEGIN:DAYLIGHT
DTSTART:20230326T030000
RDATE:20231029T020000
TZOFFSETFROM:+0100
TZOFFSETTO:+0200
TZNAME:Europe/Berlin CEST
END:DAYLIGHT
BEGIN:DAYLIGHT
DTSTART:20240331T030000
RDATE:20241027T020000
TZOFFSETFROM:+0100
TZOFFSETTO:+0200
TZNAME:Europe/Berlin CEST
END:DAYLIGHT
BEGIN:DAYLIGHT
DTSTART:20250330T030000
RDATE:20251026T020000
TZOFFSETFROM:+0100
TZOFFSETTO:+0200
TZNAME:Europe/Berlin CEST
END:DAYLIGHT
BEGIN:DAYLIGHT
DTSTART:20260329T030000
RDATE:20261025T020000
TZOFFSETFROM:+0100
TZOFFSETTO:+0200
TZNAME:Europe/Berlin CEST
END:DAYLIGHT
BEGIN:DAYLIGHT
DTSTART:20270328T030000
RDATE:20271031T020000
TZOFFSETFROM:+0100
TZOFFSETTO:+0200
TZNAME:Europe/Berlin CEST
END:DAYLIGHT
END:VTIMEZONE
BEGIN:VEVENT
UID:4c26e4c47fc9591afc9c09669fc98d5a
CATEGORIES:Online
CREATED:20200430T133500
SUMMARY:Übung (Uni): „Wie ist Friede möglich?“ Politische Friedenskonzepte in der Frühen Neuzeit
LOCATION:ZOOM
URL;VALUE=URI:https://esg-trier.de/veranstaltungskalender/eventeinzelheiten/4712/-/übung-
 uni-„wie-ist-friede-möglich“-politische-friedenskonzepte-in-der-frühen-neuz
 eit?tmpl=component
DESCRIPTION:\nPolitische Instabilität, Verfolgung von gesellschaftlichen und religiösen
  Minderheiten, Gewalt und Krieg zählen nicht nur in der Frühen Neuzeit zur 
 traurigen Realität. Doch dagegen erhoben Intellektuelle ihre Stimme und ent
 warfen Konzeptionen, wie ein gesellschaftlicher und politischer Frieden in 
 Europa möglich sein könnte. In dieser Übung geht es darum, gemeinsam ausfüh
 rlich Quellen zu diesem Thema zu lesen und zu analysieren. Dabei arbeiten w
 ir nicht nur mit transkribierten Texten, sondern mit Originaldrucken. Auf d
 iese Weise erhöhen wir zugleich elegant, da unbemerkt, unsere Kompetenzen i
 m Umgang mit Quellentexten aus der Frühen Neuzeit.\nDiese Übung wird als On
 line-Übung durchgeführt.\n This event was imported from: https://esg-trier.
 de/veranstaltungskalender/eventeinzelheiten/4712/-/übung-uni-„wie-ist-fried
 e-möglich“-politische-friedenskonzepte-in-der-frühen-neuzeit?tmpl=component
X-ALT-DESC;FMTTYPE=text/html:<p><br />Politische Instabilität, Verfolgung von gesellschaftlichen und rel
 igiösen Minderheiten, Gewalt und Krieg zählen nicht nur in der Frühen Neuze
 it zur traurigen Realität. Doch dagegen erhoben Intellektuelle ihre Stimme 
 und entwarfen Konzeptionen, wie ein gesellschaftlicher und politischer Frie
 den in Europa möglich sein könnte. In dieser Übung geht es darum, gemeinsam
  ausführlich Quellen zu diesem Thema zu lesen und zu analysieren. Dabei arb
 eiten wir nicht nur mit transkribierten Texten, sondern mit Originaldrucken
 . Auf diese Weise erhöhen wir zugleich elegant, da unbemerkt, unsere Kompet
 enzen im Umgang mit Quellentexten aus der Frühen Neuzeit.</p><p>Diese Übung
  wird als Online-Übung durchgeführt.</p> <a href="https://esg-trier.de/vera
 nstaltungskalender/eventeinzelheiten/4712/-/übung-uni-„wie-ist-friede-mögli
 ch“-politische-friedenskonzepte-in-der-frühen-neuzeit?tmpl=component">This 
 event was imported from: https://esg-trier.de/veranstaltungskalender/evente
 inzelheiten/4712/-/übung-uni-„wie-ist-friede-möglich“-politische-friedensko
 nzepte-in-der-frühen-neuzeit?tmpl=component</a>DTSTAMP:20260420T235702
DTSTART;TZID=Europe/Berlin:20200519T100000
DTEND;TZID=Europe/Berlin:20200519T120000
SEQUENCE:0
TRANSP:OPAQUE
END:VEVENT
END:VCALENDAR