BEGIN:VCALENDAR
VERSION:2.0
PRODID:-//jEvents 2.0 for Joomla//EN
CALSCALE:GREGORIAN
METHOD:PUBLISH
BEGIN:VTIMEZONE
TZID:Europe/Berlin
BEGIN:STANDARD
DTSTART:20191027T020000
RDATE:20200329T030000
TZOFFSETFROM:+0200
TZOFFSETTO:+0100
TZNAME:Europe/Berlin CET
END:STANDARD
BEGIN:STANDARD
DTSTART:20201025T020000
RDATE:20210328T030000
TZOFFSETFROM:+0200
TZOFFSETTO:+0100
TZNAME:Europe/Berlin CET
END:STANDARD
BEGIN:STANDARD
DTSTART:20211031T020000
RDATE:20220327T030000
TZOFFSETFROM:+0200
TZOFFSETTO:+0100
TZNAME:Europe/Berlin CET
END:STANDARD
BEGIN:STANDARD
DTSTART:20221030T020000
RDATE:20230326T030000
TZOFFSETFROM:+0200
TZOFFSETTO:+0100
TZNAME:Europe/Berlin CET
END:STANDARD
BEGIN:STANDARD
DTSTART:20231029T020000
RDATE:20240331T030000
TZOFFSETFROM:+0200
TZOFFSETTO:+0100
TZNAME:Europe/Berlin CET
END:STANDARD
BEGIN:STANDARD
DTSTART:20241027T020000
RDATE:20250330T030000
TZOFFSETFROM:+0200
TZOFFSETTO:+0100
TZNAME:Europe/Berlin CET
END:STANDARD
BEGIN:STANDARD
DTSTART:20251026T020000
RDATE:20260329T030000
TZOFFSETFROM:+0200
TZOFFSETTO:+0100
TZNAME:Europe/Berlin CET
END:STANDARD
BEGIN:STANDARD
DTSTART:20261025T020000
RDATE:20270328T030000
TZOFFSETFROM:+0200
TZOFFSETTO:+0100
TZNAME:Europe/Berlin CET
END:STANDARD
BEGIN:STANDARD
DTSTART:20271031T020000
RDATE:20280326T030000
TZOFFSETFROM:+0200
TZOFFSETTO:+0100
TZNAME:Europe/Berlin CET
END:STANDARD
BEGIN:DAYLIGHT
DTSTART:20190630T160000
RDATE:20191027T020000
TZOFFSETFROM:+0100
TZOFFSETTO:+0200
TZNAME:Europe/Berlin CEST
END:DAYLIGHT
BEGIN:DAYLIGHT
DTSTART:20200329T030000
RDATE:20201025T020000
TZOFFSETFROM:+0100
TZOFFSETTO:+0200
TZNAME:Europe/Berlin CEST
END:DAYLIGHT
BEGIN:DAYLIGHT
DTSTART:20210328T030000
RDATE:20211031T020000
TZOFFSETFROM:+0100
TZOFFSETTO:+0200
TZNAME:Europe/Berlin CEST
END:DAYLIGHT
BEGIN:DAYLIGHT
DTSTART:20220327T030000
RDATE:20221030T020000
TZOFFSETFROM:+0100
TZOFFSETTO:+0200
TZNAME:Europe/Berlin CEST
END:DAYLIGHT
BEGIN:DAYLIGHT
DTSTART:20230326T030000
RDATE:20231029T020000
TZOFFSETFROM:+0100
TZOFFSETTO:+0200
TZNAME:Europe/Berlin CEST
END:DAYLIGHT
BEGIN:DAYLIGHT
DTSTART:20240331T030000
RDATE:20241027T020000
TZOFFSETFROM:+0100
TZOFFSETTO:+0200
TZNAME:Europe/Berlin CEST
END:DAYLIGHT
BEGIN:DAYLIGHT
DTSTART:20250330T030000
RDATE:20251026T020000
TZOFFSETFROM:+0100
TZOFFSETTO:+0200
TZNAME:Europe/Berlin CEST
END:DAYLIGHT
BEGIN:DAYLIGHT
DTSTART:20260329T030000
RDATE:20261025T020000
TZOFFSETFROM:+0100
TZOFFSETTO:+0200
TZNAME:Europe/Berlin CEST
END:DAYLIGHT
BEGIN:DAYLIGHT
DTSTART:20270328T030000
RDATE:20271031T020000
TZOFFSETFROM:+0100
TZOFFSETTO:+0200
TZNAME:Europe/Berlin CEST
END:DAYLIGHT
END:VTIMEZONE
BEGIN:VEVENT
UID:b2bab8744f13564ddaf347f7034f8ea2
CATEGORIES:Online
CREATED:20200430T133736
SUMMARY:Seminar (Uni): Sterben und Tod in der Frühen Neuzeit
LOCATION:ZOOM
URL;VALUE=URI:https://esg-trier.de/veranstaltungskalender/eventeinzelheiten/4731/-/semina
 r-uni-sterben-und-tod-in-der-frühen-neuzeit?tmpl=component
DESCRIPTION:Kriege, Pest und Katastrophen haben unter der europäischen Bevölkerung schw
 ere Verluste verursacht. Die bestürzende Konfrontation mit dem Tod und sein
 e ständige Bedrohung stellten in der Frühen Neuzeit Politik, Theologie und 
 Kirche vor großen Herausforderungen. Ziel dieses Seminars ist es, nicht nur
  die unmittelbaren kirchengeschichtlichen, gesellschaftlichen und politisch
 en Wirkungen dieser Konfrontation zu erkennen, sondern auch längerfristige 
 Konsequenzen dieser Konfrontation des Glaubens mit dem großen Sterben aufzu
 zeigen. \n\nReligiöse und politische Handlungsanweisungen, Deutungsmuster i
 n der Kunst sowie Bewältigungsmodelle der Volksfrömmigkeit sollen ebenso un
 tersucht werden wie die zum Teil stark voneinander differierenden gesellsch
 aftspolitischen, medizinischen und theologischen Antwortversuche. \n\nEine 
 Liste der zum Teil faszinierenden Literatur sowie wichtiger Quellen wird zu
  Beginn des Seminars zur Verfügung gestellt. Besondere Vorkenntnisse sowie 
 griechische wie lateinische Sprachkenntnisse werden nicht erwartet.\nDieses
  Seminar wird als Online-Seminar durchgeführt.\n This event was imported fr
 om: https://esg-trier.de/veranstaltungskalender/eventeinzelheiten/4731/-/se
 minar-uni-sterben-und-tod-in-der-frühen-neuzeit?tmpl=component
X-ALT-DESC;FMTTYPE=text/html:<p>Kriege, Pest und Katastrophen haben unter der europäischen Bevölkerung s
 chwere Verluste verursacht. Die bestürzende Konfrontation mit dem Tod und s
 eine ständige Bedrohung stellten in der Frühen Neuzeit Politik, Theologie u
 nd Kirche vor großen Herausforderungen. Ziel dieses Seminars ist es, nicht 
 nur die unmittelbaren kirchengeschichtlichen, gesellschaftlichen und politi
 schen Wirkungen dieser Konfrontation zu erkennen, sondern auch längerfristi
 ge Konsequenzen dieser Konfrontation des Glaubens mit dem großen Sterben au
 fzuzeigen. <br /><br />Religiöse und politische Handlungsanweisungen, Deutu
 ngsmuster in der Kunst sowie Bewältigungsmodelle der Volksfrömmigkeit solle
 n ebenso untersucht werden wie die zum Teil stark voneinander differierende
 n gesellschaftspolitischen, medizinischen und theologischen Antwortversuche
 . <br /><br />Eine Liste der zum Teil faszinierenden Literatur sowie wichti
 ger Quellen wird zu Beginn des Seminars zur Verfügung gestellt. Besondere V
 orkenntnisse sowie griechische wie lateinische Sprachkenntnisse werden nich
 t erwartet.</p><p>Dieses Seminar wird als Online-Seminar durchgeführt.</p> 
 <a href="https://esg-trier.de/veranstaltungskalender/eventeinzelheiten/4731
 /-/seminar-uni-sterben-und-tod-in-der-frühen-neuzeit?tmpl=component">This e
 vent was imported from: https://esg-trier.de/veranstaltungskalender/eventei
 nzelheiten/4731/-/seminar-uni-sterben-und-tod-in-der-frühen-neuzeit?tmpl=co
 mponent</a>DTSTAMP:20260422T220653
DTSTART;TZID=Europe/Berlin:20200630T160000
DTEND;TZID=Europe/Berlin:20200630T180000
SEQUENCE:0
TRANSP:OPAQUE
END:VEVENT
END:VCALENDAR